BEGIN:VCALENDAR
VERSION:2.0
PRODID:-//PAGE - Partage des Amis du Grand Est - ECPv6.15.20//NONSGML v1.0//EN
CALSCALE:GREGORIAN
METHOD:PUBLISH
X-WR-CALNAME:PAGE - Partage des Amis du Grand Est
X-ORIGINAL-URL:https://page-asso.fr
X-WR-CALDESC:Évènements pour PAGE - Partage des Amis du Grand Est
REFRESH-INTERVAL;VALUE=DURATION:PT1H
X-Robots-Tag:noindex
X-PUBLISHED-TTL:PT1H
BEGIN:VTIMEZONE
TZID:Europe/Paris
BEGIN:DAYLIGHT
TZOFFSETFROM:+0100
TZOFFSETTO:+0200
TZNAME:CEST
DTSTART:20240331T010000
END:DAYLIGHT
BEGIN:STANDARD
TZOFFSETFROM:+0200
TZOFFSETTO:+0100
TZNAME:CET
DTSTART:20241027T010000
END:STANDARD
BEGIN:DAYLIGHT
TZOFFSETFROM:+0100
TZOFFSETTO:+0200
TZNAME:CEST
DTSTART:20250330T010000
END:DAYLIGHT
BEGIN:STANDARD
TZOFFSETFROM:+0200
TZOFFSETTO:+0100
TZNAME:CET
DTSTART:20251026T010000
END:STANDARD
BEGIN:DAYLIGHT
TZOFFSETFROM:+0100
TZOFFSETTO:+0200
TZNAME:CEST
DTSTART:20260329T010000
END:DAYLIGHT
BEGIN:STANDARD
TZOFFSETFROM:+0200
TZOFFSETTO:+0100
TZNAME:CET
DTSTART:20261025T010000
END:STANDARD
END:VTIMEZONE
BEGIN:VEVENT
DTSTART;TZID=Europe/Paris:20250201T190000
DTEND;TZID=Europe/Paris:20250201T233000
DTSTAMP:20260423T020437
CREATED:20250114T222707Z
LAST-MODIFIED:20250114T222905Z
UID:30665-1738436400-1738452600@page-asso.fr
SUMMARY:idée de sortie : Fête du nouvel-an chinois le 1er février 2025 à Mondorff (France)
DESCRIPTION:La fête du Têt au Vietnam est l’équivalent du  nouvel an chinois ou nouvel an Lunaire. Cette année la date est le 29 janvier 2025. Et 2025 sera placé sous le signe  du serpent de bois.\nHoa Trang-Fleur Blanche (www.fleur-blanche.org) en partenariat avec École Pour Tous au Vietnam (2 associations d’aide humanitaire pour le Vietnam de la région) organiseront  un repas dansant pour ce Nouvel An\, fête du TÊT. Ce repas dansant sera aussi l’occasion de faire découvrir la Danse du Lion\, traditionnelle en Asie mais aussi le superbe artisanat Vietnamien qui sera vendu par les 2 associations à cette occasion.\nTous les bénéfices seront reversés à un projet au Vietnam pour les enfants et/ou adultes.\nVous trouverez ci dessous le flyer et les informations pour vous inscrire.\nParlez en autour de vous et venez réveillonnez une seconde fois pour ce nouvel an lunaire et découvrir un peu de tradition du Vietnam.\nOn compte sur votre présence.\n\n\n\n\nFlyer-Fete du Tet\n\n\n\n\n\nCordialement\,\nChristine SIMON\nPrésidente\nwww.fleur-blanche.org\nch_saverna@pm.me
URL:https://page-asso.fr/evenement/idee-de-sortie-fete-du-nouvel-an-chinois-le-1er-fevrier-2025-a-mondorff/
CATEGORIES:Sorties
END:VEVENT
BEGIN:VEVENT
DTSTART;TZID=Europe/Paris:20250205T100000
DTEND;TZID=Europe/Paris:20250205T110000
DTSTAMP:20260423T020437
CREATED:20250109T115900Z
LAST-MODIFIED:20250402T093835Z
UID:30605-1738749600-1738753200@page-asso.fr
SUMMARY:Cours d'anglais
DESCRIPTION:Cours d’anglais en petit groupe (maximum 8 personnes) permettant de s’adapter à la demande des participants\nUn très bon moment à partager tous les mercredis matins\, en dehors des vacances scolaires.\nLa participation à cette activité est incluse dans votre cotisation annuelle à l’association\, pas de supplément.
URL:https://page-asso.fr/evenement/cours-danglais-4/
LOCATION:LED (Thionville)\, 1 chemin du Leidt\, Thionville\, 57100\, France
CATEGORIES:Activités physiques,Danse
END:VEVENT
BEGIN:VEVENT
DTSTART;TZID=Europe/Paris:20250205T143000
DTEND;TZID=Europe/Paris:20250205T170000
DTSTAMP:20260423T020437
CREATED:20241002T135927Z
LAST-MODIFIED:20241002T135948Z
UID:30315-1738765800-1738774800@page-asso.fr
SUMMARY:Assemblée générale 2025
DESCRIPTION:Assemblée générale de l’association PAGE\nle 05 février 2025 à 14h30 à l’Espace St Nicolas.
URL:https://page-asso.fr/evenement/assemblee-generale-2025/
LOCATION:Espace Saint-Nicolas\, 5\, rue Saint-Nicolas\, THIONVILLE\, 57100\, France
CATEGORIES:Assemblée générale
END:VEVENT
BEGIN:VEVENT
DTSTART;TZID=Europe/Paris:20250206T100000
DTEND;TZID=Europe/Paris:20250206T110000
DTSTAMP:20260423T020437
CREATED:20240129T205838Z
LAST-MODIFIED:20250305T183432Z
UID:30122-1738836000-1738839600@page-asso.fr
SUMMARY:Gymnastique Senior
DESCRIPTION:Séance de gymnastique adaptée aux seniors \nLa séance est organisée les jeudis matins hors vacances scolaires. \n\nSéance 10h00-11h00
URL:https://page-asso.fr/evenement/gymnastique-senior-134/
LOCATION:Maison des Quartiers\, 58 Allée Bel-Air\, THIONVILLE\, 57100\, France
CATEGORIES:Activités physiques,Gymnastique
ORGANIZER;CN="association PAGE":MAILTO:contact@page-asso.fr
END:VEVENT
BEGIN:VEVENT
DTSTART;TZID=Europe/Paris:20250207T110000
DTEND;TZID=Europe/Paris:20250207T120000
DTSTAMP:20260423T020437
CREATED:20250109T110035Z
LAST-MODIFIED:20250109T110035Z
UID:30565-1738926000-1738929600@page-asso.fr
SUMMARY:Danse en ligne
DESCRIPTION:Cours de danse en ligne en petit groupe (maximum 16 personnes) animé par Rémi Vingert.\nUn très bon moment à partager tous les vendredis matins\, en dehors des vacances scolaires.\nLa participation à cette activité vous coutera (en sus de la cotisation annuelle à l’association) : 45 EUR par trimestre (tarif 2025) \nsource: https://commons.wikimedia.org
URL:https://page-asso.fr/evenement/danse-en-ligne-5/
LOCATION:LED (Thionville)\, 1 chemin du Leidt\, Thionville\, 57100\, France
CATEGORIES:Activités physiques,Danse
END:VEVENT
BEGIN:VEVENT
DTSTART;TZID=Europe/Paris:20250225T093000
DTEND;TZID=Europe/Paris:20250225T113000
DTSTAMP:20260423T020437
CREATED:20250224T172340Z
LAST-MODIFIED:20250224T172340Z
UID:30681-1740475800-1740483000@page-asso.fr
SUMMARY:Atelier mémoire
DESCRIPTION:L’association PAGE organise un atelier mémoire animé par la fédération Seniors Moselle\, subventionné par la CARSAT : \n\nles mardis matins à partie du 25 février\, pendant 10 séances\ngratuit pour les membres de l’association\n\n  \nFlyer mémoire Thionville 2025.pdf
URL:https://page-asso.fr/evenement/atelier-memoire-11/
LOCATION:LED (Thionville)\, 1 chemin du Leidt\, Thionville\, 57100\, France
CATEGORIES:Cours & ateliers,Mémoire
END:VEVENT
BEGIN:VEVENT
DTSTART;TZID=Europe/Paris:20250226T100000
DTEND;TZID=Europe/Paris:20250226T110000
DTSTAMP:20260423T020437
CREATED:20250109T120208Z
LAST-MODIFIED:20250402T093825Z
UID:30607-1740564000-1740567600@page-asso.fr
SUMMARY:Cours d'anglais
DESCRIPTION:Cours d’anglais en petit groupe (maximum 8 personnes) permettant de s’adapter à la demande des participants.\nUn très bon moment à partager tous les mercredis matins\, en dehors des vacances scolaires.\nLa participation à cette activité est incluse dans votre cotisation annuelle à l’association\, pas de supplément.
URL:https://page-asso.fr/evenement/cours-danglais-5/
LOCATION:LED (Thionville)\, 1 chemin du Leidt\, Thionville\, 57100\, France
CATEGORIES:Anglais,Cours & ateliers
END:VEVENT
BEGIN:VEVENT
DTSTART;TZID=Europe/Paris:20250227T100000
DTEND;TZID=Europe/Paris:20250227T110000
DTSTAMP:20260423T020437
CREATED:20240129T210138Z
LAST-MODIFIED:20250305T183231Z
UID:30127-1740650400-1740654000@page-asso.fr
SUMMARY:Gymnastique Senior
DESCRIPTION:Séance de gymnastique adaptée aux seniors \nLa séance est organisée les jeudis matins hors vacances scolaires. \n\nSéance 10h00-11h00
URL:https://page-asso.fr/evenement/gymnastique-senior-136/
LOCATION:Maison des Quartiers\, 58 Allée Bel-Air\, THIONVILLE\, 57100\, France
CATEGORIES:Activités physiques,Gymnastique
ORGANIZER;CN="association PAGE":MAILTO:contact@page-asso.fr
END:VEVENT
BEGIN:VEVENT
DTSTART;TZID=Europe/Paris:20250227T143000
DTEND;TZID=Europe/Paris:20250227T173000
DTSTAMP:20260423T020437
CREATED:20240115T163142Z
LAST-MODIFIED:20240115T163142Z
UID:29952-1740666600-1740677400@page-asso.fr
SUMMARY:Après-midi jeux à Oeutrange
DESCRIPTION:Après-midi jeux de cartes et jeux de société
URL:https://page-asso.fr/evenement/apres-midi-jeux-a-oeutrange-39/
LOCATION:Foyer Paroissial OEUTRANGE\, 13 pl St Luc - Rue du 70ème Régiment d’Armée\, OEUTRANGE (THIONVILLE)\, 57100\, France
CATEGORIES:Loisirs
END:VEVENT
BEGIN:VEVENT
DTSTART;TZID=Europe/Paris:20250228T080000
DTEND;TZID=Europe/Paris:20250228T170000
DTSTAMP:20260423T020437
CREATED:20250109T110134Z
LAST-MODIFIED:20250109T110134Z
UID:30567-1740729600-1740762000@page-asso.fr
SUMMARY:Danse en ligne
DESCRIPTION:Cours de danse en ligne en petit groupe (maximum 16 personnes) animé par Rémi Vingert.\nUn très bon moment à partager tous les vendredis matins\, en dehors des vacances scolaires.\nLa participation à cette activité vous coutera (en sus de la cotisation annuelle à l’association) : 45 EUR par trimestre (tarif 2025) \nsource: https://commons.wikimedia.org
URL:https://page-asso.fr/evenement/danse-en-ligne-6/
LOCATION:LED (Thionville)\, 1 chemin du Leidt\, Thionville\, 57100\, France
CATEGORIES:Activités physiques,Danse
END:VEVENT
BEGIN:VEVENT
DTSTART;TZID=Europe/Paris:20250228T180000
DTEND;TZID=Europe/Paris:20250228T220000
DTSTAMP:20260423T020437
CREATED:20250224T181321Z
LAST-MODIFIED:20250305T191610Z
UID:30707-1740765600-1740780000@page-asso.fr
SUMMARY:Sortie Exposition LUMINESCENCES (Amnéville)
DESCRIPTION:SORTIE ORGANISÉE par L’ASSOCIATION PAGE : « LUMINESCENCES «  \nParcours de 1\,4 km à la « découverte de la culture asiatique » sous forme de 10 000 installations lumineuses dès la tombée de la nuit.\n \nLa durée du parcours\, à votre rythme\, est évaluée entre 2 à 3 heures environ\, démarrage aux environs de 19 heures (après le coucher du soleil).\n \n  \n  \n  \nQUELQUES PHOTOS DE NOTRE SORTIE
URL:https://page-asso.fr/evenement/sortie-exposition-luminescences-amneville/
CATEGORIES:Sorties
END:VEVENT
END:VCALENDAR