BEGIN:VCALENDAR
VERSION:2.0
PRODID:-//PAGE - Partage des Amis du Grand Est - ECPv6.15.20//NONSGML v1.0//EN
CALSCALE:GREGORIAN
METHOD:PUBLISH
X-ORIGINAL-URL:https://page-asso.fr
X-WR-CALDESC:Évènements pour PAGE - Partage des Amis du Grand Est
REFRESH-INTERVAL;VALUE=DURATION:PT1H
X-Robots-Tag:noindex
X-PUBLISHED-TTL:PT1H
BEGIN:VTIMEZONE
TZID:Europe/Paris
BEGIN:DAYLIGHT
TZOFFSETFROM:+0100
TZOFFSETTO:+0200
TZNAME:CEST
DTSTART:20230326T010000
END:DAYLIGHT
BEGIN:STANDARD
TZOFFSETFROM:+0200
TZOFFSETTO:+0100
TZNAME:CET
DTSTART:20231029T010000
END:STANDARD
BEGIN:DAYLIGHT
TZOFFSETFROM:+0100
TZOFFSETTO:+0200
TZNAME:CEST
DTSTART:20240331T010000
END:DAYLIGHT
BEGIN:STANDARD
TZOFFSETFROM:+0200
TZOFFSETTO:+0100
TZNAME:CET
DTSTART:20241027T010000
END:STANDARD
BEGIN:DAYLIGHT
TZOFFSETFROM:+0100
TZOFFSETTO:+0200
TZNAME:CEST
DTSTART:20250330T010000
END:DAYLIGHT
BEGIN:STANDARD
TZOFFSETFROM:+0200
TZOFFSETTO:+0100
TZNAME:CET
DTSTART:20251026T010000
END:STANDARD
END:VTIMEZONE
BEGIN:VEVENT
DTSTART;TZID=Europe/Paris:20241107T100000
DTEND;TZID=Europe/Paris:20241107T110000
DTSTAMP:20260423T063635
CREATED:20240129T191322Z
LAST-MODIFIED:20250305T184531Z
UID:30076-1730973600-1730977200@page-asso.fr
SUMMARY:Gymnastique Senior
DESCRIPTION:Séance de gymnastique adaptée aux seniors \nLa séance est organisée les jeudis matins hors vacances scolaires. \n\nSéance 10h00-11h00
URL:https://page-asso.fr/evenement/gymnastique-senior-112/
LOCATION:Maison des Quartiers\, 58 Allée Bel-Air\, THIONVILLE\, 57100\, France
CATEGORIES:Activités physiques,Gymnastique
ORGANIZER;CN="association PAGE":MAILTO:contact@page-asso.fr
END:VEVENT
BEGIN:VEVENT
DTSTART;TZID=Europe/Paris:20241107T143000
DTEND;TZID=Europe/Paris:20241107T173000
DTSTAMP:20260423T063636
CREATED:20240115T162501Z
LAST-MODIFIED:20240115T162501Z
UID:29940-1730989800-1731000600@page-asso.fr
SUMMARY:Après-midi jeux à Oeutrange
DESCRIPTION:Après-midi jeux de cartes et jeux de société
URL:https://page-asso.fr/evenement/apres-midi-jeux-a-oeutrange-33/
LOCATION:Foyer Paroissial OEUTRANGE\, 13 pl St Luc - Rue du 70ème Régiment d’Armée\, OEUTRANGE (THIONVILLE)\, 57100\, France
CATEGORIES:Loisirs
END:VEVENT
BEGIN:VEVENT
DTSTART;TZID=Europe/Paris:20241114T100000
DTEND;TZID=Europe/Paris:20241114T110000
DTSTAMP:20260423T063636
CREATED:20240129T191845Z
LAST-MODIFIED:20250305T184517Z
UID:30081-1731578400-1731582000@page-asso.fr
SUMMARY:Gymnastique Senior
DESCRIPTION:Séance de gymnastique adaptée aux seniors \nLa séance est organisée les jeudis matins hors vacances scolaires. \n\nSéance 10h00-11h00
URL:https://page-asso.fr/evenement/gymnastique-senior-114/
LOCATION:Maison des Quartiers\, 58 Allée Bel-Air\, THIONVILLE\, 57100\, France
CATEGORIES:Activités physiques,Gymnastique
ORGANIZER;CN="association PAGE":MAILTO:contact@page-asso.fr
END:VEVENT
BEGIN:VEVENT
DTSTART;VALUE=DATE:20241119
DTEND;VALUE=DATE:20241120
DTSTAMP:20260423T063636
CREATED:20241115T093200Z
LAST-MODIFIED:20241123T220532Z
UID:30363-1731974400-1732060799@page-asso.fr
SUMMARY:Voyage découverte Chocolaterie Jacques BOCKEL à Monswiller
DESCRIPTION:Nous sommes heureux de vous proposer une sortie d’une journée – en covoiturage – à MONSWILLER – SAVERNE – LE 19 NOVEMBRE 2024 \nProgramme : \n\nVisite guidée de la Chocolaterie Jacques BOCKEL (fabrique – torréfaction – atelier nut’alsace\, etc…). Lors de votre visite vous aurez -10 % sur vos achats à la boutique de la chocolaterie ;\nVisite libre de la Fabrique de Bretzel (qui se trouve à 2 km environ de la chocolaterie).\n\nLe coût de la journée sera calculé en fonction du nombre de participants (estimation : entre 35 et 50 euros environ).Ce tarif ne comprend pas le déjeuner\, tarif qui vous sera communiqué ultérieurement. \nPour la bonne organisation de la sortie nous vous demandons de bien vouloir nous faire savoir au plus tard le 15 SEPTEMBRE 2024 si cette sortie vous intéresse par Mail ou SMS au 06 87 77 26 82\, afin de confirmer notre réservation auprès des établissements concernés. \nMerciBien cordialement \nLe COMITE PAGE \n			\n				\n				\n				\n				\n				Galerie de photos de la visite de la chocolaterie Jacques BOCKEL : \n			\n				\n					\n					\n					\n				\n				\n					\n					\n					\n				\n				\n					\n					\n					\n				\n				\n					\n					\n					\n				\n				\n					\n					\n					\n				\n				\n					\n					\n					\n				\n				\n					\n					\n					\n				\n				\n					\n					\n					\n				\n				\n					\n					\n					\n				\n				\n					\n					\n					\n				\n				\n					\n					\n					\n				\n				\n					\n					\n					\n				\n				\n					\n					\n					\n				\n				\n					\n					\n					\n				\n				\n					\n					\n					\n				\n				\n					\n					\n					\n				\n				\n					\n					\n					\n				\n				\n					\n					\n					\n				\n				\n					\n					\n					\n				\n				\n					\n					\n					\n				\n				\n					\n					\n					\n				\n				\n					\n					\n					\n				\n				\n					\n					\n					\n				\n				\n					\n					\n					\n				\n				\n					\n					\n					\n				\n				\n					\n					\n					\n				\n				\n					\n					\n					\n				\n				\n				\n				\n				\n				\n				Galerie de photos de la visite de la fabrique de bretzel BOEHLI :
URL:https://page-asso.fr/evenement/voyage-decouverte-chocolaterie-jacques-bockel-a-monswiller/
CATEGORIES:Voyages
END:VEVENT
BEGIN:VEVENT
DTSTART;TZID=Europe/Paris:20241121T100000
DTEND;TZID=Europe/Paris:20241121T110000
DTSTAMP:20260423T063636
CREATED:20240129T203236Z
LAST-MODIFIED:20250305T184502Z
UID:30085-1732183200-1732186800@page-asso.fr
SUMMARY:Gymnastique Senior
DESCRIPTION:Séance de gymnastique adaptée aux seniors \nLa séance est organisée les jeudis matins hors vacances scolaires. \n\nSéance 10h00-11h00
URL:https://page-asso.fr/evenement/gymnastique-senior-116/
LOCATION:Maison des Quartiers\, 58 Allée Bel-Air\, THIONVILLE\, 57100\, France
CATEGORIES:Activités physiques,Gymnastique
ORGANIZER;CN="association PAGE":MAILTO:contact@page-asso.fr
END:VEVENT
BEGIN:VEVENT
DTSTART;TZID=Europe/Paris:20241121T143000
DTEND;TZID=Europe/Paris:20241121T173000
DTSTAMP:20260423T063636
CREATED:20240115T162600Z
LAST-MODIFIED:20240115T162600Z
UID:29942-1732199400-1732210200@page-asso.fr
SUMMARY:Après-midi jeux à Oeutrange
DESCRIPTION:Après-midi jeux de cartes et jeux de société
URL:https://page-asso.fr/evenement/apres-midi-jeux-a-oeutrange-34/
LOCATION:Foyer Paroissial OEUTRANGE\, 13 pl St Luc - Rue du 70ème Régiment d’Armée\, OEUTRANGE (THIONVILLE)\, 57100\, France
CATEGORIES:Loisirs
END:VEVENT
BEGIN:VEVENT
DTSTART;TZID=Europe/Paris:20241128T100000
DTEND;TZID=Europe/Paris:20241128T110000
DTSTAMP:20260423T063636
CREATED:20240129T203447Z
LAST-MODIFIED:20250305T184406Z
UID:30089-1732788000-1732791600@page-asso.fr
SUMMARY:Gymnastique Senior
DESCRIPTION:Séance de gymnastique adaptée aux seniors \nLa séance est organisée les jeudis matins hors vacances scolaires. \n\nSéance 10h00-11h00
URL:https://page-asso.fr/evenement/gymnastique-senior-118/
LOCATION:Maison des Quartiers\, 58 Allée Bel-Air\, THIONVILLE\, 57100\, France
CATEGORIES:Activités physiques,Gymnastique
ORGANIZER;CN="association PAGE":MAILTO:contact@page-asso.fr
END:VEVENT
END:VCALENDAR