BEGIN:VCALENDAR
VERSION:2.0
PRODID:-//PAGE - Partage des Amis du Grand Est - ECPv6.15.20//NONSGML v1.0//EN
CALSCALE:GREGORIAN
METHOD:PUBLISH
X-ORIGINAL-URL:https://page-asso.fr
X-WR-CALDESC:Évènements pour PAGE - Partage des Amis du Grand Est
REFRESH-INTERVAL;VALUE=DURATION:PT1H
X-Robots-Tag:noindex
X-PUBLISHED-TTL:PT1H
BEGIN:VTIMEZONE
TZID:Europe/Paris
BEGIN:DAYLIGHT
TZOFFSETFROM:+0100
TZOFFSETTO:+0200
TZNAME:CEST
DTSTART:20230326T010000
END:DAYLIGHT
BEGIN:STANDARD
TZOFFSETFROM:+0200
TZOFFSETTO:+0100
TZNAME:CET
DTSTART:20231029T010000
END:STANDARD
BEGIN:DAYLIGHT
TZOFFSETFROM:+0100
TZOFFSETTO:+0200
TZNAME:CEST
DTSTART:20240331T010000
END:DAYLIGHT
BEGIN:STANDARD
TZOFFSETFROM:+0200
TZOFFSETTO:+0100
TZNAME:CET
DTSTART:20241027T010000
END:STANDARD
BEGIN:DAYLIGHT
TZOFFSETFROM:+0100
TZOFFSETTO:+0200
TZNAME:CEST
DTSTART:20250330T010000
END:DAYLIGHT
BEGIN:STANDARD
TZOFFSETFROM:+0200
TZOFFSETTO:+0100
TZNAME:CET
DTSTART:20251026T010000
END:STANDARD
END:VTIMEZONE
BEGIN:VEVENT
DTSTART;TZID=Europe/Paris:20240829T180000
DTEND;TZID=Europe/Paris:20240829T220000
DTSTAMP:20260423T152826
CREATED:20241115T105320Z
LAST-MODIFIED:20241115T175645Z
UID:30452-1724954400-1724968800@page-asso.fr
SUMMARY:Apéro-boat - soirée apéro en bateau
DESCRIPTION:L’association PAGE propose une soirée apéro en bateau aux alentours de Metz le jeudi 29 août 2024.\nLe tarif de la balade en bateau avec apéro (2 boissons et assiette de charcuterie) est de 30 EUR par personne.\nNous prévoirons un covoiturage pour le trajet Thionville-METZ. \nDétail de la prestation sur le site internet des bateaux de Metz : https://la-compagnie-des-bateaux-de-metz.com/activites/apero-boat \nGalerie photo de l’évènement : \n 
URL:https://page-asso.fr/evenement/apero-boat-soiree-apero-en-bateau/
END:VEVENT
END:VCALENDAR