BEGIN:VCALENDAR
VERSION:2.0
PRODID:-//PAGE - Partage des Amis du Grand Est - ECPv6.15.20//NONSGML v1.0//EN
CALSCALE:GREGORIAN
METHOD:PUBLISH
X-ORIGINAL-URL:https://page-asso.fr
X-WR-CALDESC:Évènements pour PAGE - Partage des Amis du Grand Est
REFRESH-INTERVAL;VALUE=DURATION:PT1H
X-Robots-Tag:noindex
X-PUBLISHED-TTL:PT1H
BEGIN:VTIMEZONE
TZID:Europe/Paris
BEGIN:DAYLIGHT
TZOFFSETFROM:+0100
TZOFFSETTO:+0200
TZNAME:CEST
DTSTART:20230326T010000
END:DAYLIGHT
BEGIN:STANDARD
TZOFFSETFROM:+0200
TZOFFSETTO:+0100
TZNAME:CET
DTSTART:20231029T010000
END:STANDARD
BEGIN:DAYLIGHT
TZOFFSETFROM:+0100
TZOFFSETTO:+0200
TZNAME:CEST
DTSTART:20240331T010000
END:DAYLIGHT
BEGIN:STANDARD
TZOFFSETFROM:+0200
TZOFFSETTO:+0100
TZNAME:CET
DTSTART:20241027T010000
END:STANDARD
BEGIN:DAYLIGHT
TZOFFSETFROM:+0100
TZOFFSETTO:+0200
TZNAME:CEST
DTSTART:20250330T010000
END:DAYLIGHT
BEGIN:STANDARD
TZOFFSETFROM:+0200
TZOFFSETTO:+0100
TZNAME:CET
DTSTART:20251026T010000
END:STANDARD
END:VTIMEZONE
BEGIN:VEVENT
DTSTART;TZID=Europe/Paris:20240305T143000
DTEND;TZID=Europe/Paris:20240305T163000
DTSTAMP:20260424T012925
CREATED:20240304T105551Z
LAST-MODIFIED:20240304T105551Z
UID:30139-1709649000-1709656200@page-asso.fr
SUMMARY:Marche - bord de la Moselle
DESCRIPTION:Marche : bords de la Moselle – Thionville\nLieu de rendez-vous: 14h30 – parvis du théâtre \nDistance: environ 6 km sans difficulté
URL:https://page-asso.fr/evenement/marche-bord-de-la-moselle/
CATEGORIES:Activités physiques,Marches
END:VEVENT
BEGIN:VEVENT
DTSTART;TZID=Europe/Paris:20240307T143000
DTEND;TZID=Europe/Paris:20240307T173000
DTSTAMP:20260424T012925
CREATED:20240115T114732Z
LAST-MODIFIED:20240115T114732Z
UID:29916-1709821800-1709832600@page-asso.fr
SUMMARY:Après-midi jeux à Oeutrange
DESCRIPTION:Après-midi jeux de cartes et jeux de société
URL:https://page-asso.fr/evenement/apres-midi-jeux-a-oeutrange-22/
LOCATION:Foyer Paroissial OEUTRANGE\, 13 pl St Luc - Rue du 70ème Régiment d’Armée\, OEUTRANGE (THIONVILLE)\, 57100\, France
CATEGORIES:Loisirs
END:VEVENT
BEGIN:VEVENT
DTSTART;TZID=Europe/Paris:20240314T093000
DTEND;TZID=Europe/Paris:20240314T103000
DTSTAMP:20260424T012925
CREATED:20240129T182136Z
LAST-MODIFIED:20240129T182136Z
UID:29990-1710408600-1710412200@page-asso.fr
SUMMARY:Gymnastique Senior
DESCRIPTION:Séance de gymnastique adaptée aux seniors \nDeux séances sont organisées les jeudis matins hors vacances scolaires. \n\nSéance 09h30-10h20\nSéance 10h30-11h20
URL:https://page-asso.fr/evenement/gymnastique-senior-70/
LOCATION:Maison des Quartiers\, 58 Allée Bel-Air\, THIONVILLE\, 57100\, France
CATEGORIES:Activités physiques,Gymnastique
ORGANIZER;CN="association PAGE":MAILTO:contact@page-asso.fr
END:VEVENT
BEGIN:VEVENT
DTSTART;TZID=Europe/Paris:20240314T103000
DTEND;TZID=Europe/Paris:20240314T113000
DTSTAMP:20260424T012925
CREATED:20240129T182240Z
LAST-MODIFIED:20240129T182240Z
UID:29992-1710412200-1710415800@page-asso.fr
SUMMARY:Gymnastique Senior
DESCRIPTION:Séance de gymnastique adaptée aux seniors \nDeux séances sont organisées les jeudis matins hors vacances scolaires. \n\nSéance 09h30-10h20\nSéance 10h30-11h20
URL:https://page-asso.fr/evenement/gymnastique-senior-71/
LOCATION:Maison des Quartiers\, 58 Allée Bel-Air\, THIONVILLE\, 57100\, France
CATEGORIES:Activités physiques,Gymnastique
ORGANIZER;CN="association PAGE":MAILTO:contact@page-asso.fr
END:VEVENT
BEGIN:VEVENT
DTSTART;TZID=Europe/Paris:20240317T150000
DTEND;TZID=Europe/Paris:20240317T173000
DTSTAMP:20260424T012925
CREATED:20240314T142411Z
LAST-MODIFIED:20240314T144750Z
UID:30145-1710687600-1710696600@page-asso.fr
SUMMARY:Festival de poésie organisé par le CEPAL
DESCRIPTION:Festival de poésie \nDimanche 17 mars 2024\, en salle Verlaine\, à partir de 15h\, le CEPAL organise un FESTIVAL DE POÉSIE. \ntextes originaux\, humour\, chansons et musique \navec les poètes du CEPAL: Germaine\, Gisèle\, Marie-France\, Simone\, Sylvine et la participation musicale de Brigitte Damour et Pierre-Louis Caraman \nrenseignements : s.gabriel@free.fr – 03 82 83 97 46 \nCEPAL : Centre Européen pour la Promotion des Arts et Lettres
URL:https://page-asso.fr/evenement/festival-de-poesie-organise-par-le-cepal/
LOCATION:Salle Verlaine\, Rue du Général Walker\, Thionville\, 57100\, France
CATEGORIES:Sorties
END:VEVENT
BEGIN:VEVENT
DTSTART;TZID=Europe/Paris:20240321T093000
DTEND;TZID=Europe/Paris:20240321T103000
DTSTAMP:20260424T012925
CREATED:20240129T182426Z
LAST-MODIFIED:20240129T182426Z
UID:29994-1711013400-1711017000@page-asso.fr
SUMMARY:Gymnastique Senior
DESCRIPTION:Séance de gymnastique adaptée aux seniors \nDeux séances sont organisées les jeudis matins hors vacances scolaires. \n\nSéance 09h30-10h20\nSéance 10h30-11h20
URL:https://page-asso.fr/evenement/gymnastique-senior-72/
LOCATION:Maison des Quartiers\, 58 Allée Bel-Air\, THIONVILLE\, 57100\, France
CATEGORIES:Activités physiques,Gymnastique
ORGANIZER;CN="association PAGE":MAILTO:contact@page-asso.fr
END:VEVENT
BEGIN:VEVENT
DTSTART;TZID=Europe/Paris:20240321T103000
DTEND;TZID=Europe/Paris:20240321T113000
DTSTAMP:20260424T012925
CREATED:20240129T182529Z
LAST-MODIFIED:20240129T182529Z
UID:29996-1711017000-1711020600@page-asso.fr
SUMMARY:Gymnastique Senior
DESCRIPTION:Séance de gymnastique adaptée aux seniors \nDeux séances sont organisées les jeudis matins hors vacances scolaires. \n\nSéance 09h30-10h20\nSéance 10h30-11h20
URL:https://page-asso.fr/evenement/gymnastique-senior-73/
LOCATION:Maison des Quartiers\, 58 Allée Bel-Air\, THIONVILLE\, 57100\, France
CATEGORIES:Activités physiques,Gymnastique
ORGANIZER;CN="association PAGE":MAILTO:contact@page-asso.fr
END:VEVENT
BEGIN:VEVENT
DTSTART;TZID=Europe/Paris:20240321T143000
DTEND;TZID=Europe/Paris:20240321T173000
DTSTAMP:20260424T012925
CREATED:20240115T114844Z
LAST-MODIFIED:20240115T114844Z
UID:29918-1711031400-1711042200@page-asso.fr
SUMMARY:Après-midi jeux à Oeutrange
DESCRIPTION:Après-midi jeux de cartes et jeux de société
URL:https://page-asso.fr/evenement/apres-midi-jeux-a-oeutrange-23/
LOCATION:Foyer Paroissial OEUTRANGE\, 13 pl St Luc - Rue du 70ème Régiment d’Armée\, OEUTRANGE (THIONVILLE)\, 57100\, France
CATEGORIES:Loisirs
END:VEVENT
BEGIN:VEVENT
DTSTART;TZID=Europe/Paris:20240322T180000
DTEND;TZID=Europe/Paris:20240322T210000
DTSTAMP:20260424T012925
CREATED:20240313T165900Z
LAST-MODIFIED:20240313T165900Z
UID:30142-1711130400-1711141200@page-asso.fr
SUMMARY:conférence sur Verlaine organisée par la SHAL
DESCRIPTION:Une conférence organisée par la SHAL (Société d’histoire et d’archéologie de Lorraine) aura lieu le vendredi 22 mars à 18h en salle Verlaine(*) à Thionville. \nBérangère THOMAS\, présidente des amis de Verlaine parlera de « Verlaine et son temps » à l’occasion du 180ème anniversaire de la naissance du poète le 30 mars 1844. \nVous êtes cordialement conviés à cette conférence – l’entrée est gratuite. \n(*) la salle Verlaine est au bas des marches du Théâtre de Thionville \n 
URL:https://page-asso.fr/evenement/conference-sur-verlaine-organisee-par-la-shal/
CATEGORIES:Loisirs
END:VEVENT
BEGIN:VEVENT
DTSTART;TZID=Europe/Paris:20240328T093000
DTEND;TZID=Europe/Paris:20240328T103000
DTSTAMP:20260424T012925
CREATED:20240129T182723Z
LAST-MODIFIED:20240129T182723Z
UID:29998-1711618200-1711621800@page-asso.fr
SUMMARY:Gymnastique Senior
DESCRIPTION:Séance de gymnastique adaptée aux seniors \nDeux séances sont organisées les jeudis matins hors vacances scolaires. \n\nSéance 09h30-10h20\nSéance 10h30-11h20
URL:https://page-asso.fr/evenement/gymnastique-senior-74/
LOCATION:Maison des Quartiers\, 58 Allée Bel-Air\, THIONVILLE\, 57100\, France
CATEGORIES:Activités physiques,Gymnastique
ORGANIZER;CN="association PAGE":MAILTO:contact@page-asso.fr
END:VEVENT
BEGIN:VEVENT
DTSTART;TZID=Europe/Paris:20240328T103000
DTEND;TZID=Europe/Paris:20240328T113000
DTSTAMP:20260424T012925
CREATED:20240129T182833Z
LAST-MODIFIED:20240129T182833Z
UID:30000-1711621800-1711625400@page-asso.fr
SUMMARY:Gymnastique Senior
DESCRIPTION:Séance de gymnastique adaptée aux seniors \nDeux séances sont organisées les jeudis matins hors vacances scolaires. \n\nSéance 09h30-10h20\nSéance 10h30-11h20
URL:https://page-asso.fr/evenement/gymnastique-senior-75/
LOCATION:Maison des Quartiers\, 58 Allée Bel-Air\, THIONVILLE\, 57100\, France
CATEGORIES:Activités physiques,Gymnastique
ORGANIZER;CN="association PAGE":MAILTO:contact@page-asso.fr
END:VEVENT
END:VCALENDAR