BEGIN:VCALENDAR
VERSION:2.0
PRODID:-//PAGE - Partage des Amis du Grand Est - ECPv6.15.20//NONSGML v1.0//EN
CALSCALE:GREGORIAN
METHOD:PUBLISH
X-ORIGINAL-URL:https://page-asso.fr
X-WR-CALDESC:Évènements pour PAGE - Partage des Amis du Grand Est
REFRESH-INTERVAL;VALUE=DURATION:PT1H
X-Robots-Tag:noindex
X-PUBLISHED-TTL:PT1H
BEGIN:VTIMEZONE
TZID:Europe/Paris
BEGIN:DAYLIGHT
TZOFFSETFROM:+0100
TZOFFSETTO:+0200
TZNAME:CEST
DTSTART:20220327T010000
END:DAYLIGHT
BEGIN:STANDARD
TZOFFSETFROM:+0200
TZOFFSETTO:+0100
TZNAME:CET
DTSTART:20221030T010000
END:STANDARD
BEGIN:DAYLIGHT
TZOFFSETFROM:+0100
TZOFFSETTO:+0200
TZNAME:CEST
DTSTART:20230326T010000
END:DAYLIGHT
BEGIN:STANDARD
TZOFFSETFROM:+0200
TZOFFSETTO:+0100
TZNAME:CET
DTSTART:20231029T010000
END:STANDARD
BEGIN:DAYLIGHT
TZOFFSETFROM:+0100
TZOFFSETTO:+0200
TZNAME:CEST
DTSTART:20240331T010000
END:DAYLIGHT
BEGIN:STANDARD
TZOFFSETFROM:+0200
TZOFFSETTO:+0100
TZNAME:CET
DTSTART:20241027T010000
END:STANDARD
END:VTIMEZONE
BEGIN:VEVENT
DTSTART;VALUE=DATE:20230929
DTEND;VALUE=DATE:20231002
DTSTAMP:20260424T173141
CREATED:20230321T150855Z
LAST-MODIFIED:20231006T105903Z
UID:29582-1695945600-1696204799@page-asso.fr
SUMMARY:Voyage en Baie de Somme - 3 jours / 2 nuits
DESCRIPTION:L’association PAGE vous propose le voyage suivant : \n\n    BAIE DE SOMME – 3 Jours / 2 nuits – du 29 sept. au  1er oct. 2023\nLe détail du voyage se trouve en cliquant ici : \n.\n\nATTENTION : Le voyage initialement prévu du 28 au 30 sept a été reculé d’un jour. Il se déroulera du vendredi 29 sept. au dimanche 1er oct.\nPour réserver\, envoyer un mail à l’adresse contact@page-asso.fr ou téléphonez à Odette NIEPEL au 07.60.41.26.61\n\nUn chèque d’acompte de 100 € pour la réservation au nom de l’agence « Fensch Voyages » est collecté par Odette jusqu’au jeudi 30 juin 2023 – lui transmettre ou l’envoyer à : Odette NIEPEL\, Résidence « Les Lys »- 68A rue Paul ALBERT – 57100 THIONVILLE\n\nLe solde sera payable 1 mois avant le départ. \n\nLes réservations sont complètes\, nous ne prenons plus de réservations pour ce voyage.\n\n\n\n\n\nQuelques photos de notre voyage:\n\nle groupe\n\n\n\n\n\n\nLes hortillonnages (Amiens)\n\n\n\n\n\n\nLa cathédrale d’Amiens\n\n\n\n\nAbbeville\n\n\n\n\nLe Crotoy\n\n\nLe petit train entre Le Crotoy et St Valery\n\n\n\nLe parc du Marquenterre\n\n\n\n\n\nUn tour en bateau à St Valery-sur-Somme\n\n\n\nLes agneaux de pré salé
URL:https://page-asso.fr/evenement/voyage-en-baie-de-somme-3-jours-2-nuits/
CATEGORIES:Voyages
ORGANIZER;CN="association PAGE":MAILTO:contact@page-asso.fr
END:VEVENT
BEGIN:VEVENT
DTSTART;TZID=Europe/Paris:20231002T140000
DTEND;TZID=Europe/Paris:20231002T160000
DTSTAMP:20260424T173141
CREATED:20230728T125255Z
LAST-MODIFIED:20230731T151637Z
UID:29742-1696255200-1696262400@page-asso.fr
SUMMARY:Atelier Mémoire
DESCRIPTION:Vous avez des trous de mémoire ? Il vous arrive d’oublier le nom d’une personne ? Vous cherchez des solutions pour entretenir votre mémoire au quotidien ?\nInscrivez-vous à un atelier mémoire afin de bien comprendre les mécanismes de la mémoire et d’entretenir vos fonctions cérébrales par des jeux\, des exercices et des entraînements ludiques.\nGratuit pour tous les membres de l’association\, inscription par mail à contact@page-asso.fr \n Flyer mémoire Ludo PAC 2023 – Thionville \n 
URL:https://page-asso.fr/evenement/atelier-memoire-3/
LOCATION:LED (Thionville)\, 1 chemin du Leidt\, Thionville\, 57100\, France
CATEGORIES:Cours & ateliers,Mémoire
ORGANIZER;CN="association PAGE":MAILTO:contact@page-asso.fr
END:VEVENT
BEGIN:VEVENT
DTSTART;TZID=Europe/Paris:20231003T090000
DTEND;TZID=Europe/Paris:20231003T110000
DTSTAMP:20260424T173141
CREATED:20230809T151418Z
LAST-MODIFIED:20231006T103443Z
UID:29790-1696323600-1696330800@page-asso.fr
SUMMARY:Haltère & Fourchette – nutrition (report du 10/10)
DESCRIPTION:De Septembre 2023 à Décembre 2023\, venez participer à ce double atelier qui vous permettra de rester au top de votre santé : \n\nune première partie activité physique adaptée (aux seniors) d’une heure hebdomadaire avec un bilan de forme\, du renforcement musculaire\, de la coordination…\nune deuxième partie constituée de conférences sur la nutrition\, les besoins spécifiques à la retraite\, l’équilibre alimentaire… sous forme de conférences toutes les 2 semaines\n\nCette séance est dédiée à la nutrition. \n     Flyer H&F Thionville \nGratuit pour tous les membres de l’association\, inscription au programme par mail à contact@page-asso.fr
URL:https://page-asso.fr/evenement/haltere-fourchette-nutrition-2/
LOCATION:LED (Thionville)\, 1 chemin du Leidt\, Thionville\, 57100\, France
CATEGORIES:Conférences,Cours & ateliers,haltère & fourchette
ORGANIZER;CN="association PAGE":MAILTO:contact@page-asso.fr
END:VEVENT
BEGIN:VEVENT
DTSTART;TZID=Europe/Paris:20231003T110000
DTEND;TZID=Europe/Paris:20231003T120000
DTSTAMP:20260424T173141
CREATED:20230809T151708Z
LAST-MODIFIED:20231006T103425Z
UID:29792-1696330800-1696334400@page-asso.fr
SUMMARY:Haltère & Fourchette – Activité Physique Adaptée
DESCRIPTION:De Septembre 2023 à Décembre 2023\, venez participer à ce double atelier qui vous permettra de rester au top de votre santé : \n\nune première partie activité physique adaptée (aux seniors) d’une heure hebdomadaire avec un bilan de forme\, du renforcement musculaire\, de la coordination…\nune deuxième partie constituée de conférences sur la nutrition\, les besoins spécifiques à la retraite\, l’équilibre alimentaire… sous forme de conférences toutes les 2 semaines\n\nCette séance est dédiée à l’Activité Physique Adaptée. \n     Flyer H&F Thionville \nGratuit pour tous les membres de l’association\, inscription au programme par mail à contact@page-asso.fr
URL:https://page-asso.fr/evenement/haltere-fourchette-activite-physique-adaptee-2/
LOCATION:LED (Thionville)\, 1 chemin du Leidt\, Thionville\, 57100\, France
CATEGORIES:Activités physiques,Cours & ateliers,Gymnastique,haltère & fourchette
ORGANIZER;CN="association PAGE":MAILTO:contact@page-asso.fr
END:VEVENT
BEGIN:VEVENT
DTSTART;TZID=Europe/Paris:20231005T093000
DTEND;TZID=Europe/Paris:20231005T103000
DTSTAMP:20260424T173141
CREATED:20230227T213905Z
LAST-MODIFIED:20230510T121859Z
UID:29425-1696498200-1696501800@page-asso.fr
SUMMARY:Gymnastique senior
DESCRIPTION:Séance de gymnastique adaptée aux seniors \nDeux séances sont organisées les jeudis hors vacances scolaires. \n\nSéance 09h30-10h20\nSéance 10h30-11h20
URL:https://page-asso.fr/evenement/gymnastique-senior-43/
LOCATION:Maison des Quartiers\, 58 Allée Bel-Air\, THIONVILLE\, 57100\, France
CATEGORIES:Activités physiques,Gymnastique
END:VEVENT
BEGIN:VEVENT
DTSTART;TZID=Europe/Paris:20231005T103000
DTEND;TZID=Europe/Paris:20231005T113000
DTSTAMP:20260424T173141
CREATED:20230227T214025Z
LAST-MODIFIED:20230227T214025Z
UID:29427-1696501800-1696505400@page-asso.fr
SUMMARY:Gymnastique senior
DESCRIPTION:Séance de gymnastique adaptée aux seniors \nDeux séances sont organisées les jeudis hors vacances scolaires.\nSéance 09h30-10h20\nSéance 10h30-11h20
URL:https://page-asso.fr/evenement/gymnastique-senior-44/
LOCATION:Maison des Quartiers\, 58 Allée Bel-Air\, THIONVILLE\, 57100\, France
CATEGORIES:Activités physiques,Gymnastique
END:VEVENT
BEGIN:VEVENT
DTSTART;TZID=Europe/Paris:20231005T143000
DTEND;TZID=Europe/Paris:20231005T160000
DTSTAMP:20260424T173141
CREATED:20230227T224027Z
LAST-MODIFIED:20231031T125759Z
UID:29494-1696516200-1696521600@page-asso.fr
SUMMARY:Conférence sensibilisation arnaques et démarchages
DESCRIPTION:Vous êtes sollicité par téléphone ? des étrangers sonnent à votre porte ? Vous vous méfiez avec raison…\n\n\n\nNotre association PAGE organise en partenariat avec l’Espace Saint-Nicolas une conférence de sensibilisation aux arnaques et démarchages en tout genre.\n\nElle sera animée par M. Duhamel\, ancien responsable UFC Que Choisir – Thionville. \n\n\n AFFICHE CONFERENCE ARNAQUES\n\n\nRéservation avancée pour les membres de PAGE : le nombre de place étant limité\, merci de réserver votre place par mail à contact@page-asso.fr avant le lundi 4 septembre 2023.\nAprès cette date il sera toujours possible de s’inscrire via l’Espace St Nicolas par téléphone au 03.82.53.23.72 ou par mail ccas.seniors@mairie-thionville.fr.\n\n\n\n\nNombreux ont été les participants :
URL:https://page-asso.fr/evenement/conference-arnaques/
LOCATION:Espace conférence La Scala\, Place Anne Grommerch\, THIONVILLE\, 57100\, France
CATEGORIES:Conférences
ORGANIZER;CN="association PAGE":MAILTO:contact@page-asso.fr
END:VEVENT
BEGIN:VEVENT
DTSTART;TZID=Europe/Paris:20231009T140000
DTEND;TZID=Europe/Paris:20231009T160000
DTSTAMP:20260424T173141
CREATED:20230731T152841Z
LAST-MODIFIED:20230731T152841Z
UID:29753-1696860000-1696867200@page-asso.fr
SUMMARY:Atelier Mémoire
DESCRIPTION:Vous avez des trous de mémoire ? Il vous arrive d’oublier le nom d’une personne ? Vous cherchez des solutions pour entretenir votre mémoire au quotidien ?\nInscrivez-vous à un atelier mémoire afin de bien comprendre les mécanismes de la mémoire et d’entretenir vos fonctions cérébrales par des jeux\, des exercices et des entraînements ludiques.\nGratuit pour tous les membres de l’association\, inscription par mail à contact@page-asso.fr \n Flyer mémoire Ludo PAC 2023 – Thionville \n 
URL:https://page-asso.fr/evenement/atelier-memoire-4/
LOCATION:LED (Thionville)\, 1 chemin du Leidt\, Thionville\, 57100\, France
CATEGORIES:Cours & ateliers,Mémoire
ORGANIZER;CN="association PAGE":MAILTO:contact@page-asso.fr
END:VEVENT
BEGIN:VEVENT
DTSTART;TZID=Europe/Paris:20231010T110000
DTEND;TZID=Europe/Paris:20231010T120000
DTSTAMP:20260424T173141
CREATED:20230809T151938Z
LAST-MODIFIED:20231006T103406Z
UID:29794-1696935600-1696939200@page-asso.fr
SUMMARY:Haltère & Fourchette – Activité Physique Adaptée
DESCRIPTION:De Septembre 2023 à Décembre 2023\, venez participer à ce double atelier qui vous permettra de rester au top de votre santé : \n\nune première partie activité physique adaptée (aux seniors) d’une heure hebdomadaire avec un bilan de forme\, du renforcement musculaire\, de la coordination…\nune deuxième partie constituée de conférences sur la nutrition\, les besoins spécifiques à la retraite\, l’équilibre alimentaire… sous forme de conférences toutes les 2 semaines\n\nCette séance est dédiée à l’Activité Physique Adaptée. \n     Flyer H&F Thionville \nGratuit pour tous les membres de l’association\, inscription au programme par mail à contact@page-asso.fr
URL:https://page-asso.fr/evenement/haltere-fourchette-activite-physique-adaptee-3/
LOCATION:LED (Thionville)\, 1 chemin du Leidt\, Thionville\, 57100\, France
CATEGORIES:Activités physiques,Cours & ateliers,Gymnastique,haltère & fourchette
ORGANIZER;CN="association PAGE":MAILTO:contact@page-asso.fr
END:VEVENT
BEGIN:VEVENT
DTSTART;TZID=Europe/Paris:20231012T093000
DTEND;TZID=Europe/Paris:20231012T103000
DTSTAMP:20260424T173141
CREATED:20230227T214158Z
LAST-MODIFIED:20230227T214158Z
UID:29429-1697103000-1697106600@page-asso.fr
SUMMARY:Gymnastique senior
DESCRIPTION:Séance de gymnastique adaptée aux seniors \nDeux séances sont organisées les jeudis hors vacances scolaires. \n\nSéance 09h30-10h20\nSéance 10h30-11h20
URL:https://page-asso.fr/evenement/gymnastique-senior-45/
LOCATION:Maison des Quartiers\, 58 Allée Bel-Air\, THIONVILLE\, 57100\, France
CATEGORIES:Activités physiques,Gymnastique
END:VEVENT
BEGIN:VEVENT
DTSTART;TZID=Europe/Paris:20231012T103000
DTEND;TZID=Europe/Paris:20231012T113000
DTSTAMP:20260424T173141
CREATED:20230227T214401Z
LAST-MODIFIED:20230227T214401Z
UID:29431-1697106600-1697110200@page-asso.fr
SUMMARY:Gymnastique senior
DESCRIPTION:Séance de gymnastique adaptée aux seniors \nDeux séances sont organisées les jeudis hors vacances scolaires.\nSéance 09h30-10h20\nSéance 10h30-11h20
URL:https://page-asso.fr/evenement/gymnastique-senior-46/
LOCATION:Maison des Quartiers\, 58 Allée Bel-Air\, THIONVILLE\, 57100\, France
CATEGORIES:Activités physiques,Gymnastique
END:VEVENT
BEGIN:VEVENT
DTSTART;TZID=Europe/Paris:20231015T150000
DTEND;TZID=Europe/Paris:20231015T170000
DTSTAMP:20260424T173141
CREATED:20231011T120832Z
LAST-MODIFIED:20231011T120832Z
UID:29878-1697382000-1697389200@page-asso.fr
SUMMARY:CEPAL : L'inde de Pierre DANIELLE
DESCRIPTION:CEPAL\nCentre européen pour la promotion des Arts et des Lettres\n\nLe CEPAL invite :\n\nPierre DANIELLE s’investit depuis 30 ans auprès des Tamouls du Sri Lanka \net de l’Inde. Parcourant sans cesse les bidonvilles et les campagnes du \nTamil Nadu\, ses 32 voyages en Inde du sud lui ont permis d’acquérir une \nsolide connaissance de l’histoire du pays\, de sa culture\, de sa \ncivilisation\, de ses langues dont le tamoul qu’il utilise bien volontiers.\nAussi\, Pierre DANIELLE aura-t-il le plaisir de  venir à votre rencontre \nle dimanche 15 octobre 2023 à Thionville (salle Verlaine du Théâtre \nmunicipal)\, dès 15h\, pour vous présenter « Son Inde »\, bien loin des \nclichés établis que sont les castes et la misère. Selon lui\, ce pays ne \npeut pas se résumer à ses deux seuls termes. Bien au contraire.\nIl nous parlera également de son investissement personnel auprès des \npopulations défavorisées et de l’aventure humaine qu’il a entrepris \ndepuis 15 ans en faveur de l’enfance déshéritée dans les faubourgs de \nChennai. A l’issue de sa conférence\, Pierre DANIELLE\, également auteur\, \nvous proposera ses livres en dédicace ainsi que la vente de produits \nindiens. Tous les bénéfices de cette vente seront intégralement reversés \nau profit de l’association TAM.B.I. (https:\\tambi.jimdo.com)\n\n2023 - 10 - Affiche conférence Inde - 5\n   
URL:https://page-asso.fr/evenement/cepal-linde-de-pierre-danielle/
CATEGORIES:Sorties
END:VEVENT
BEGIN:VEVENT
DTSTART;TZID=Europe/Paris:20231016T140000
DTEND;TZID=Europe/Paris:20231016T160000
DTSTAMP:20260424T173141
CREATED:20230731T153214Z
LAST-MODIFIED:20230731T153214Z
UID:29757-1697464800-1697472000@page-asso.fr
SUMMARY:Atelier Mémoire
DESCRIPTION:Vous avez des trous de mémoire ? Il vous arrive d’oublier le nom d’une personne ? Vous cherchez des solutions pour entretenir votre mémoire au quotidien ?\nInscrivez-vous à un atelier mémoire afin de bien comprendre les mécanismes de la mémoire et d’entretenir vos fonctions cérébrales par des jeux\, des exercices et des entraînements ludiques.\nGratuit pour tous les membres de l’association\, inscription par mail à contact@page-asso.fr \n Flyer mémoire Ludo PAC 2023 – Thionville \n 
URL:https://page-asso.fr/evenement/atelier-memoire-6/
LOCATION:LED (Thionville)\, 1 chemin du Leidt\, Thionville\, 57100\, France
CATEGORIES:Cours & ateliers,Mémoire
ORGANIZER;CN="association PAGE":MAILTO:contact@page-asso.fr
END:VEVENT
BEGIN:VEVENT
DTSTART;TZID=Europe/Paris:20231017T110000
DTEND;TZID=Europe/Paris:20231017T120000
DTSTAMP:20260424T173141
CREATED:20230809T152321Z
LAST-MODIFIED:20231006T103345Z
UID:29797-1697540400-1697544000@page-asso.fr
SUMMARY:Haltère & Fourchette – Activité Physique Adaptée
DESCRIPTION:De Septembre 2023 à Décembre 2023\, venez participer à ce double atelier qui vous permettra de rester au top de votre santé : \n\nune première partie activité physique adaptée (aux seniors) d’une heure hebdomadaire avec un bilan de forme\, du renforcement musculaire\, de la coordination…\nune deuxième partie constituée de conférences sur la nutrition\, les besoins spécifiques à la retraite\, l’équilibre alimentaire… sous forme de conférences toutes les 2 semaines\n\nCette séance est dédiée à l’Activité Physique Adaptée. \n     Flyer H&F Thionville \nGratuit pour tous les membres de l’association\, inscription au programme par mail à contact@page-asso.fr
URL:https://page-asso.fr/evenement/haltere-fourchette-activite-physique-adaptee-4/
LOCATION:LED (Thionville)\, 1 chemin du Leidt\, Thionville\, 57100\, France
CATEGORIES:Activités physiques,Cours & ateliers,Gymnastique,haltère & fourchette
ORGANIZER;CN="association PAGE":MAILTO:contact@page-asso.fr
END:VEVENT
BEGIN:VEVENT
DTSTART;TZID=Europe/Paris:20231019T093000
DTEND;TZID=Europe/Paris:20231019T103000
DTSTAMP:20260424T173141
CREATED:20230227T214540Z
LAST-MODIFIED:20230227T214540Z
UID:29433-1697707800-1697711400@page-asso.fr
SUMMARY:Gymnastique senior
DESCRIPTION:Séance de gymnastique adaptée aux seniors \nDeux séances sont organisées les jeudis hors vacances scolaires. \n\nSéance 09h30-10h20\nSéance 10h30-11h20
URL:https://page-asso.fr/evenement/gymnastique-senior-47/
LOCATION:Maison des Quartiers\, 58 Allée Bel-Air\, THIONVILLE\, 57100\, France
CATEGORIES:Activités physiques,Gymnastique
END:VEVENT
BEGIN:VEVENT
DTSTART;TZID=Europe/Paris:20231019T103000
DTEND;TZID=Europe/Paris:20231019T113000
DTSTAMP:20260424T173141
CREATED:20230227T214719Z
LAST-MODIFIED:20230227T214719Z
UID:29435-1697711400-1697715000@page-asso.fr
SUMMARY:Gymnastique senior
DESCRIPTION:Séance de gymnastique adaptée aux seniors \nDeux séances sont organisées les jeudis hors vacances scolaires. \n\nSéance 09h30-10h20\nSéance 10h30-11h20
URL:https://page-asso.fr/evenement/gymnastique-senior-48/
LOCATION:Maison des Quartiers\, 58 Allée Bel-Air\, THIONVILLE\, 57100\, France
CATEGORIES:Activités physiques,Gymnastique
END:VEVENT
BEGIN:VEVENT
DTSTART;TZID=Europe/Paris:20231019T143000
DTEND;TZID=Europe/Paris:20231019T170000
DTSTAMP:20260424T173141
CREATED:20230227T224122Z
LAST-MODIFIED:20230227T224122Z
UID:29496-1697725800-1697734800@page-asso.fr
SUMMARY:Après-midi jeux à Oeutrange
DESCRIPTION:Après-midi jeux de cartes et jeux de société
URL:https://page-asso.fr/evenement/apres-midi-jeux-a-oeutrange-15/
LOCATION:Foyer Paroissial OEUTRANGE\, 13 pl St Luc - Rue du 70ème Régiment d’Armée\, OEUTRANGE (THIONVILLE)\, 57100\, France
CATEGORIES:Loisirs
END:VEVENT
BEGIN:VEVENT
DTSTART;TZID=Europe/Paris:20231023T140000
DTEND;TZID=Europe/Paris:20231023T160000
DTSTAMP:20260424T173141
CREATED:20230731T153026Z
LAST-MODIFIED:20230731T153026Z
UID:29755-1698069600-1698076800@page-asso.fr
SUMMARY:Atelier Mémoire
DESCRIPTION:Vous avez des trous de mémoire ? Il vous arrive d’oublier le nom d’une personne ? Vous cherchez des solutions pour entretenir votre mémoire au quotidien ?\nInscrivez-vous à un atelier mémoire afin de bien comprendre les mécanismes de la mémoire et d’entretenir vos fonctions cérébrales par des jeux\, des exercices et des entraînements ludiques.\nGratuit pour tous les membres de l’association\, inscription par mail à contact@page-asso.fr \n Flyer mémoire Ludo PAC 2023 – Thionville \n 
URL:https://page-asso.fr/evenement/atelier-memoire-5/
LOCATION:LED (Thionville)\, 1 chemin du Leidt\, Thionville\, 57100\, France
CATEGORIES:Cours & ateliers,Mémoire
ORGANIZER;CN="association PAGE":MAILTO:contact@page-asso.fr
END:VEVENT
BEGIN:VEVENT
DTSTART;TZID=Europe/Paris:20231024T090000
DTEND;TZID=Europe/Paris:20231024T110000
DTSTAMP:20260424T173141
CREATED:20230809T152542Z
LAST-MODIFIED:20231006T103325Z
UID:29799-1698138000-1698145200@page-asso.fr
SUMMARY:Haltère & Fourchette – Nutrition
DESCRIPTION:De Septembre 2023 à Décembre 2023\, venez participer à ce double atelier qui vous permettra de rester au top de votre santé : \n\nune première partie activité physique adaptée (aux seniors) d’une heure hebdomadaire avec un bilan de forme\, du renforcement musculaire\, de la coordination…\nune deuxième partie constituée de conférences sur la nutrition\, les besoins spécifiques à la retraite\, l’équilibre alimentaire… sous forme de conférences toutes les 2 semaines\n\nCette séance est dédiée à la nutrition. \n     Flyer H&F Thionville \nGratuit pour tous les membres de l’association\, inscription au programme par mail à contact@page-asso.fr
URL:https://page-asso.fr/evenement/haltere-fourchette-nutrition-3/
LOCATION:LED (Thionville)\, 1 chemin du Leidt\, Thionville\, 57100\, France
CATEGORIES:Conférences,Cours & ateliers,haltère & fourchette
ORGANIZER;CN="association PAGE":MAILTO:contact@page-asso.fr
END:VEVENT
BEGIN:VEVENT
DTSTART;TZID=Europe/Paris:20231024T110000
DTEND;TZID=Europe/Paris:20231024T120000
DTSTAMP:20260424T173141
CREATED:20230809T153204Z
LAST-MODIFIED:20231006T103310Z
UID:29801-1698145200-1698148800@page-asso.fr
SUMMARY:Haltère & Fourchette – Activité Physique Adaptée
DESCRIPTION:De Septembre 2023 à Décembre 2023\, venez participer à ce double atelier qui vous permettra de rester au top de votre santé : \n\nune première partie activité physique adaptée (aux seniors) d’une heure hebdomadaire avec un bilan de forme\, du renforcement musculaire\, de la coordination…\nune deuxième partie constituée de conférences sur la nutrition\, les besoins spécifiques à la retraite\, l’équilibre alimentaire… sous forme de conférences toutes les 2 semaines\n\nCette séance est dédiée à l’Activité Physique Adaptée. \n     Flyer H&F Thionville \nGratuit pour tous les membres de l’association\, inscription au programme par mail à contact@page-asso.fr
URL:https://page-asso.fr/evenement/haltere-fourchette-activite-physique-adaptee-5/
LOCATION:LED (Thionville)\, 1 chemin du Leidt\, Thionville\, 57100\, France
CATEGORIES:Activités physiques,Cours & ateliers,Gymnastique,haltère & fourchette
ORGANIZER;CN="association PAGE":MAILTO:contact@page-asso.fr
END:VEVENT
BEGIN:VEVENT
DTSTART;TZID=Europe/Paris:20231025T110000
DTEND;TZID=Europe/Paris:20231028T170000
DTSTAMP:20260424T173141
CREATED:20231006T174500Z
LAST-MODIFIED:20231031T124719Z
UID:29870-1698231600-1698512400@page-asso.fr
SUMMARY:Exposition d'art - peinture & sculpture
DESCRIPTION:L’association PAGE organise une exposition de tableaux et de sculptures à Thionville\, salle du Casino\, du mercredi 25 octobre 2023 au samedi 28 octobre 2023. Entrée libre et gratuite de 11h à 18h – samedi de 11h à 17h. \nLe montage de l’exposition se fera le mercredi à partir de 10h\, le démontage le samedi à partir de 17h. \n  \n \n  \n        < llien vers affiche expo \n  \nune photo de l’exposition
URL:https://page-asso.fr/evenement/exposition-dart-peinture-sculpture/
LOCATION:salle du Casino à Thionville\, 43 Rue de Paris\, Thionville\, 57100\, France
CATEGORIES:Exposition
END:VEVENT
BEGIN:VEVENT
DTSTART;TZID=Europe/Paris:20231030T140000
DTEND;TZID=Europe/Paris:20231030T160000
DTSTAMP:20260424T173141
CREATED:20230731T153349Z
LAST-MODIFIED:20230731T153349Z
UID:29759-1698674400-1698681600@page-asso.fr
SUMMARY:Atelier Mémoire
DESCRIPTION:Vous avez des trous de mémoire ? Il vous arrive d’oublier le nom d’une personne ? Vous cherchez des solutions pour entretenir votre mémoire au quotidien ?\nInscrivez-vous à un atelier mémoire afin de bien comprendre les mécanismes de la mémoire et d’entretenir vos fonctions cérébrales par des jeux\, des exercices et des entraînements ludiques.\nGratuit pour tous les membres de l’association\, inscription par mail à contact@page-asso.fr \n Flyer mémoire Ludo PAC 2023 – Thionville \n 
URL:https://page-asso.fr/evenement/atelier-memoire-7/
LOCATION:LED (Thionville)\, 1 chemin du Leidt\, Thionville\, 57100\, France
CATEGORIES:Cours & ateliers,Mémoire
ORGANIZER;CN="association PAGE":MAILTO:contact@page-asso.fr
END:VEVENT
BEGIN:VEVENT
DTSTART;TZID=Europe/Paris:20231031T110000
DTEND;TZID=Europe/Paris:20231031T120000
DTSTAMP:20260424T173141
CREATED:20230809T153346Z
LAST-MODIFIED:20231006T103251Z
UID:29803-1698750000-1698753600@page-asso.fr
SUMMARY:Haltère & Fourchette – Activité Physique Adaptée
DESCRIPTION:De Septembre 2023 à Décembre 2023\, venez participer à ce double atelier qui vous permettra de rester au top de votre santé : \n\nune première partie activité physique adaptée (aux seniors) d’une heure hebdomadaire avec un bilan de forme\, du renforcement musculaire\, de la coordination…\nune deuxième partie constituée de conférences sur la nutrition\, les besoins spécifiques à la retraite\, l’équilibre alimentaire… sous forme de conférences toutes les 2 semaines\n\nCette séance est dédiée à l’Activité Physique Adaptée. \n     Flyer H&F Thionville \nGratuit pour tous les membres de l’association\, inscription au programme par mail à contact@page-asso.fr
URL:https://page-asso.fr/evenement/haltere-fourchette-activite-physique-adaptee-6/
LOCATION:LED (Thionville)\, 1 chemin du Leidt\, Thionville\, 57100\, France
CATEGORIES:Activités physiques,Cours & ateliers,Gymnastique,haltère & fourchette
ORGANIZER;CN="association PAGE":MAILTO:contact@page-asso.fr
END:VEVENT
END:VCALENDAR