BEGIN:VCALENDAR
VERSION:2.0
PRODID:-//PAGE - Partage des Amis du Grand Est - ECPv6.15.20//NONSGML v1.0//EN
CALSCALE:GREGORIAN
METHOD:PUBLISH
X-WR-CALNAME:PAGE - Partage des Amis du Grand Est
X-ORIGINAL-URL:https://page-asso.fr
X-WR-CALDESC:Évènements pour PAGE - Partage des Amis du Grand Est
REFRESH-INTERVAL;VALUE=DURATION:PT1H
X-Robots-Tag:noindex
X-PUBLISHED-TTL:PT1H
BEGIN:VTIMEZONE
TZID:Europe/Paris
BEGIN:DAYLIGHT
TZOFFSETFROM:+0100
TZOFFSETTO:+0200
TZNAME:CEST
DTSTART:20230326T010000
END:DAYLIGHT
BEGIN:STANDARD
TZOFFSETFROM:+0200
TZOFFSETTO:+0100
TZNAME:CET
DTSTART:20231029T010000
END:STANDARD
BEGIN:DAYLIGHT
TZOFFSETFROM:+0100
TZOFFSETTO:+0200
TZNAME:CEST
DTSTART:20240331T010000
END:DAYLIGHT
BEGIN:STANDARD
TZOFFSETFROM:+0200
TZOFFSETTO:+0100
TZNAME:CET
DTSTART:20241027T010000
END:STANDARD
BEGIN:DAYLIGHT
TZOFFSETFROM:+0100
TZOFFSETTO:+0200
TZNAME:CEST
DTSTART:20250330T010000
END:DAYLIGHT
BEGIN:STANDARD
TZOFFSETFROM:+0200
TZOFFSETTO:+0100
TZNAME:CET
DTSTART:20251026T010000
END:STANDARD
END:VTIMEZONE
BEGIN:VEVENT
DTSTART;VALUE=DATE:20241211
DTEND;VALUE=DATE:20241212
DTSTAMP:20260422T022924
CREATED:20241115T093625Z
LAST-MODIFIED:20241130T184605Z
UID:30366-1733875200-1733961599@page-asso.fr
SUMMARY:Sortie marché de Noël à RIQUEWIHR & RIBEAUVILLÉ
DESCRIPTION:*** SORTIE ANNULÉE ***\nEn collaboration avec l’Agence Fensch Voyages nous sommes heureux de vous proposer une sortie le  11 DÉCEMBRE 2024 \nA RIQUEWIHR & RIBEAUVILLÉ \nLe coût de la sortie (entre 120 à 140 Euros environ) et comprend : \n\nTransport en autocar grand tourisme Émile Weber\nDépart Yutz pour une arrivée vers 9 h 30 à Riquewihr\nVisite libre du marché de Noël de Riquewihr\n12 h 30  Déjeuner au Nid des Cigognes à Ostheim ou déjeuner Libre\nDépart pour Ribeauvillé pour une visite libre du marché de Noël de Ribeauvillé\nRetour à Yutz pour 21  heures\nL’assurance annulation\n\nLe prix ne comprend pas : \n. les dépenses à caractères libres \nSi vous êtes intéressés par cette sortie merci de bien vouloir adresser votre réponse\nAVANT LE 11 NOVEMBRE 2024 \nà    Josiane TEXIER  –  9\, rue du Général Pershing – 57100 THIONVILLE \nun chèque d’acompte*  de  60 euros au nom de l’Association PAGE ne sera encaissé que lorsque la sortie sera confirmée. \n*** SORTIE ANNULÉE ***
URL:https://page-asso.fr/evenement/sortie-marche-de-noel-a-riquewihr-ribeauville/
CATEGORIES:Voyages
END:VEVENT
END:VCALENDAR