BEGIN:VCALENDAR
VERSION:2.0
PRODID:-//PAGE - Partage des Amis du Grand Est - ECPv6.15.20//NONSGML v1.0//EN
CALSCALE:GREGORIAN
METHOD:PUBLISH
X-WR-CALNAME:PAGE - Partage des Amis du Grand Est
X-ORIGINAL-URL:https://page-asso.fr
X-WR-CALDESC:Évènements pour PAGE - Partage des Amis du Grand Est
REFRESH-INTERVAL;VALUE=DURATION:PT1H
X-Robots-Tag:noindex
X-PUBLISHED-TTL:PT1H
BEGIN:VTIMEZONE
TZID:Europe/Paris
BEGIN:DAYLIGHT
TZOFFSETFROM:+0100
TZOFFSETTO:+0200
TZNAME:CEST
DTSTART:20230326T010000
END:DAYLIGHT
BEGIN:STANDARD
TZOFFSETFROM:+0200
TZOFFSETTO:+0100
TZNAME:CET
DTSTART:20231029T010000
END:STANDARD
BEGIN:DAYLIGHT
TZOFFSETFROM:+0100
TZOFFSETTO:+0200
TZNAME:CEST
DTSTART:20240331T010000
END:DAYLIGHT
BEGIN:STANDARD
TZOFFSETFROM:+0200
TZOFFSETTO:+0100
TZNAME:CET
DTSTART:20241027T010000
END:STANDARD
BEGIN:DAYLIGHT
TZOFFSETFROM:+0100
TZOFFSETTO:+0200
TZNAME:CEST
DTSTART:20250330T010000
END:DAYLIGHT
BEGIN:STANDARD
TZOFFSETFROM:+0200
TZOFFSETTO:+0100
TZNAME:CET
DTSTART:20251026T010000
END:STANDARD
END:VTIMEZONE
BEGIN:VEVENT
DTSTART;VALUE=DATE:20241119
DTEND;VALUE=DATE:20241120
DTSTAMP:20260422T022913
CREATED:20241115T093200Z
LAST-MODIFIED:20241123T220532Z
UID:30363-1731974400-1732060799@page-asso.fr
SUMMARY:Voyage découverte Chocolaterie Jacques BOCKEL à Monswiller
DESCRIPTION:Nous sommes heureux de vous proposer une sortie d’une journée – en covoiturage – à MONSWILLER – SAVERNE – LE 19 NOVEMBRE 2024 \nProgramme : \n\nVisite guidée de la Chocolaterie Jacques BOCKEL (fabrique – torréfaction – atelier nut’alsace\, etc…). Lors de votre visite vous aurez -10 % sur vos achats à la boutique de la chocolaterie ;\nVisite libre de la Fabrique de Bretzel (qui se trouve à 2 km environ de la chocolaterie).\n\nLe coût de la journée sera calculé en fonction du nombre de participants (estimation : entre 35 et 50 euros environ).Ce tarif ne comprend pas le déjeuner\, tarif qui vous sera communiqué ultérieurement. \nPour la bonne organisation de la sortie nous vous demandons de bien vouloir nous faire savoir au plus tard le 15 SEPTEMBRE 2024 si cette sortie vous intéresse par Mail ou SMS au 06 87 77 26 82\, afin de confirmer notre réservation auprès des établissements concernés. \nMerciBien cordialement \nLe COMITE PAGE \n			\n				\n				\n				\n				\n				Galerie de photos de la visite de la chocolaterie Jacques BOCKEL : \n			\n				\n					\n					\n					\n				\n				\n					\n					\n					\n				\n				\n					\n					\n					\n				\n				\n					\n					\n					\n				\n				\n					\n					\n					\n				\n				\n					\n					\n					\n				\n				\n					\n					\n					\n				\n				\n					\n					\n					\n				\n				\n					\n					\n					\n				\n				\n					\n					\n					\n				\n				\n					\n					\n					\n				\n				\n					\n					\n					\n				\n				\n					\n					\n					\n				\n				\n					\n					\n					\n				\n				\n					\n					\n					\n				\n				\n					\n					\n					\n				\n				\n					\n					\n					\n				\n				\n					\n					\n					\n				\n				\n					\n					\n					\n				\n				\n					\n					\n					\n				\n				\n					\n					\n					\n				\n				\n					\n					\n					\n				\n				\n					\n					\n					\n				\n				\n					\n					\n					\n				\n				\n					\n					\n					\n				\n				\n					\n					\n					\n				\n				\n					\n					\n					\n				\n				\n				\n				\n				\n				\n				Galerie de photos de la visite de la fabrique de bretzel BOEHLI :
URL:https://page-asso.fr/evenement/voyage-decouverte-chocolaterie-jacques-bockel-a-monswiller/
CATEGORIES:Voyages
END:VEVENT
END:VCALENDAR