BEGIN:VCALENDAR
VERSION:2.0
PRODID:-//PAGE - Partage des Amis du Grand Est - ECPv6.15.20//NONSGML v1.0//EN
CALSCALE:GREGORIAN
METHOD:PUBLISH
X-WR-CALNAME:PAGE - Partage des Amis du Grand Est
X-ORIGINAL-URL:https://page-asso.fr
X-WR-CALDESC:Évènements pour PAGE - Partage des Amis du Grand Est
REFRESH-INTERVAL;VALUE=DURATION:PT1H
X-Robots-Tag:noindex
X-PUBLISHED-TTL:PT1H
BEGIN:VTIMEZONE
TZID:Europe/Paris
BEGIN:DAYLIGHT
TZOFFSETFROM:+0100
TZOFFSETTO:+0200
TZNAME:CEST
DTSTART:20220327T010000
END:DAYLIGHT
BEGIN:STANDARD
TZOFFSETFROM:+0200
TZOFFSETTO:+0100
TZNAME:CET
DTSTART:20221030T010000
END:STANDARD
BEGIN:DAYLIGHT
TZOFFSETFROM:+0100
TZOFFSETTO:+0200
TZNAME:CEST
DTSTART:20230326T010000
END:DAYLIGHT
BEGIN:STANDARD
TZOFFSETFROM:+0200
TZOFFSETTO:+0100
TZNAME:CET
DTSTART:20231029T010000
END:STANDARD
BEGIN:DAYLIGHT
TZOFFSETFROM:+0100
TZOFFSETTO:+0200
TZNAME:CEST
DTSTART:20240331T010000
END:DAYLIGHT
BEGIN:STANDARD
TZOFFSETFROM:+0200
TZOFFSETTO:+0100
TZNAME:CET
DTSTART:20241027T010000
END:STANDARD
END:VTIMEZONE
BEGIN:VEVENT
DTSTART;VALUE=DATE:20230309
DTEND;VALUE=DATE:20230310
DTSTAMP:20260426T043741
CREATED:20230309T235235Z
LAST-MODIFIED:20230309T235235Z
UID:29533-1678320000-1678406399@page-asso.fr
SUMMARY:Voyage à Strasbourg
DESCRIPTION:STRASBOURG – 1 Journée – 27 avril 2023 \nLe détail de la journée se trouve ici (cliquer sur ce lien) \ncourt résumé : \n\nvisite d’une ferme productrice d’Asperges\ndéjeuner Menu Asperges à la ferme\nVisite guidée des caves des Hospices de Strasbourg\n\nPour réserver\, envoyer un mail à l’adresse contact@page-asso.fr ou téléphonez à Odette NIEPEL au 07.60.41.26.61\nchèque au nom de l’agence « Fensch Voyages » collecté par Odette jusque lundi 03 avril – lui transmettre ou l’envoyer à : Odette NIEPEL\, Résidence « Les Lys »- 68A rue Paul ALBERT – 57100 THIONVILLE
URL:https://page-asso.fr/evenement/voyage-a-strasbourg/
CATEGORIES:Voyages
END:VEVENT
END:VCALENDAR