BEGIN:VCALENDAR
VERSION:2.0
PRODID:-//PAGE - Partage des Amis du Grand Est - ECPv6.15.20//NONSGML v1.0//EN
CALSCALE:GREGORIAN
METHOD:PUBLISH
X-WR-CALNAME:PAGE - Partage des Amis du Grand Est
X-ORIGINAL-URL:https://page-asso.fr
X-WR-CALDESC:Évènements pour PAGE - Partage des Amis du Grand Est
REFRESH-INTERVAL;VALUE=DURATION:PT1H
X-Robots-Tag:noindex
X-PUBLISHED-TTL:PT1H
BEGIN:VTIMEZONE
TZID:Europe/Paris
BEGIN:DAYLIGHT
TZOFFSETFROM:+0100
TZOFFSETTO:+0200
TZNAME:CEST
DTSTART:20240331T010000
END:DAYLIGHT
BEGIN:STANDARD
TZOFFSETFROM:+0200
TZOFFSETTO:+0100
TZNAME:CET
DTSTART:20241027T010000
END:STANDARD
BEGIN:DAYLIGHT
TZOFFSETFROM:+0100
TZOFFSETTO:+0200
TZNAME:CEST
DTSTART:20250330T010000
END:DAYLIGHT
BEGIN:STANDARD
TZOFFSETFROM:+0200
TZOFFSETTO:+0100
TZNAME:CET
DTSTART:20251026T010000
END:STANDARD
BEGIN:DAYLIGHT
TZOFFSETFROM:+0100
TZOFFSETTO:+0200
TZNAME:CEST
DTSTART:20260329T010000
END:DAYLIGHT
BEGIN:STANDARD
TZOFFSETFROM:+0200
TZOFFSETTO:+0100
TZNAME:CET
DTSTART:20261025T010000
END:STANDARD
END:VTIMEZONE
BEGIN:VEVENT
DTSTART;TZID=Europe/Paris:20250523T180000
DTEND;TZID=Europe/Paris:20250525T180000
DTSTAMP:20260422T135322
CREATED:20250522T074454Z
LAST-MODIFIED:20250522T074454Z
UID:30955-1748023200-1748196000@page-asso.fr
SUMMARY:Exposition de peinture à Illange
DESCRIPTION:invitation de la municipalité d’Illange pour le vernissage de l’Exposition de peinture le 23 à 18 h\, Chapelle St Roch\, Rue de Metz à Illange.\nL’expo sera ouverte les samedi 24 et dimanche 25\nde 10 h à midi et de 14 h à 18 h.
URL:https://page-asso.fr/evenement/exposition-de-peinture-a-illange/
CATEGORIES:Sorties
END:VEVENT
BEGIN:VEVENT
DTSTART;VALUE=DATE:20250525
DTEND;VALUE=DATE:20250526
DTSTAMP:20260422T135322
CREATED:20250502T101317Z
LAST-MODIFIED:20250502T101347Z
UID:30913-1748131200-1748217599@page-asso.fr
SUMMARY:Idée de sortie: Le Jardin de Nicole
DESCRIPTION:Une idée de sortie le 25 mai 2025 : « Le Jardin de Nicole » – balade dans les jardins privés – buvette\, couscous\, stands décoration\, gaufres…\n \nRenseignements et réservation avant le 8 mai au 06.89.33.64.29 – lejardindenicoleyutz@gmail.com – Facebook: lejardindenicole \n 
URL:https://page-asso.fr/evenement/idee-de-sortie-le-jardin-de-nicole/
CATEGORIES:Sorties
END:VEVENT
BEGIN:VEVENT
DTSTART;TZID=Europe/Paris:20250530T090000
DTEND;TZID=Europe/Paris:20250530T183000
DTSTAMP:20260422T135322
CREATED:20250502T103354Z
LAST-MODIFIED:20250502T103354Z
UID:30917-1748595600-1748629800@page-asso.fr
SUMMARY:METZ Visite guidée
DESCRIPTION:L’Association PAGE est heureuse de vous proposer :\n\n                      une visite guidée de METZ le vendredi 30 MAI 2025\n\n\n\nCette journée se déclinera en 2 parties :\n\nle matin : Metz Médiévale\, durée 1h30\n  Déjeuner (lieu encore à définir)\nl’après-midi : Metz Impériale\, durée 1h30\n\n\nVisite guidée pour un minimum de 10  personnes \nMode de transport : C’est l’option covoiturage qui a été retenue\, plus souple que le train. \n\nLieu de RdV :  Parking Place de la Liberté au plus près du Théâtre à  8h50\n\nPour la bonne organisation de cette sortie une réponse rapide est demandée dernier délai le mercredi 23 avril 2025 (e-mail de préférence ou SMS à la secrétaire au 06 87 77 26 82)
URL:https://page-asso.fr/evenement/metz-visite-guidee/
CATEGORIES:Sorties
END:VEVENT
END:VCALENDAR