BEGIN:VCALENDAR
VERSION:2.0
PRODID:-//PAGE - Partage des Amis du Grand Est - ECPv6.15.20//NONSGML v1.0//EN
CALSCALE:GREGORIAN
METHOD:PUBLISH
X-WR-CALNAME:PAGE - Partage des Amis du Grand Est
X-ORIGINAL-URL:https://page-asso.fr
X-WR-CALDESC:Évènements pour PAGE - Partage des Amis du Grand Est
REFRESH-INTERVAL;VALUE=DURATION:PT1H
X-Robots-Tag:noindex
X-PUBLISHED-TTL:PT1H
BEGIN:VTIMEZONE
TZID:Europe/Paris
BEGIN:DAYLIGHT
TZOFFSETFROM:+0100
TZOFFSETTO:+0200
TZNAME:CEST
DTSTART:20240331T010000
END:DAYLIGHT
BEGIN:STANDARD
TZOFFSETFROM:+0200
TZOFFSETTO:+0100
TZNAME:CET
DTSTART:20241027T010000
END:STANDARD
BEGIN:DAYLIGHT
TZOFFSETFROM:+0100
TZOFFSETTO:+0200
TZNAME:CEST
DTSTART:20250330T010000
END:DAYLIGHT
BEGIN:STANDARD
TZOFFSETFROM:+0200
TZOFFSETTO:+0100
TZNAME:CET
DTSTART:20251026T010000
END:STANDARD
BEGIN:DAYLIGHT
TZOFFSETFROM:+0100
TZOFFSETTO:+0200
TZNAME:CEST
DTSTART:20260329T010000
END:DAYLIGHT
BEGIN:STANDARD
TZOFFSETFROM:+0200
TZOFFSETTO:+0100
TZNAME:CET
DTSTART:20261025T010000
END:STANDARD
END:VTIMEZONE
BEGIN:VEVENT
DTSTART;TZID=Europe/Paris:20250306T183000
DTEND;TZID=Europe/Paris:20250306T230000
DTSTAMP:20260423T004658
CREATED:20250224T181942Z
LAST-MODIFIED:20250310T185238Z
UID:30712-1741285800-1741302000@page-asso.fr
SUMMARY:Sortie : TERRA MOSELLA
DESCRIPTION:L’Association PAGE est heureuse de vous proposer une sortie en soirée   \n             TERRA  MOSELLA  le  6 Mars 2025  \ndans l’église  Saint-Joseph de Montigny-lès-Metz – 5\, rue de l’Abbé Chatelain\n \nTERRA MOSELLA  est une création immersive\, visuelle et sonore. Les murs\, piliers et voûtes se drapent d’images monumentales\, parfaitement adaptées à l’architecture de l’église\, dans un mapping vidéo de plusieurs milliers de m2. Une expérience multisensorielle unique\, portée par le jeu de près de 150 acteurs et figurants qui retracent l’histoire de la guerre de 1870\, du rattachement à l’empire allemand\, jusqu’au lendemain du 2e conflit mondial où Robert Schuman traça la destinée d’une Europe enfin reconciliée.\nRécits de femmes et d’hommes déracinés\, tantôt Allemands\, tantôt Français.\n \nOrganisation et tarif :\n \nDate et horaires du spectacle :  Jeudi 6 Mars 2025  de  18h30  à 20h00\n \nTarif :  Catégorie  1A ou 1B : de  25 euros à 20 euros suivant le nombre de participants\n \nRdV de départ : Parking Liberté – au plus près du Théâtre pour covoiturage éventuel.\n \nOn peut envisager\, si vous le souhaitez\, un diner après le spectacle.\n \nSi cette sortie vous intéresse merci de bien vouloir vous inscrire par mail ou tél. (Josiane) 06 87 77 26 82\nau plus tard le  Lundi  24 FÉVRIER 2025  \n \n \n \n			\n				\n				\n				\n				\n				 \n \nGalerie photos de l’évènement :\n 
URL:https://page-asso.fr/evenement/sortie-terra-mosella/
CATEGORIES:Sorties
END:VEVENT
BEGIN:VEVENT
DTSTART;TZID=Europe/Paris:20250321T183000
DTEND;TZID=Europe/Paris:20250321T230000
DTSTAMP:20260423T004658
CREATED:20250317T162045Z
LAST-MODIFIED:20250317T162045Z
UID:30867-1742581800-1742598000@page-asso.fr
SUMMARY:Saint-Patrick à Beyren-les-Sierck
DESCRIPTION:idée de sortie : aller fêter la Saint-Patrick\nle vendredi soir 21 mars à Beyren-Les-Sierck\n \n  \n 
URL:https://page-asso.fr/evenement/saint-patrick-a-beyren-les-sierck/
CATEGORIES:Sorties
END:VEVENT
END:VCALENDAR