BEGIN:VCALENDAR
VERSION:2.0
PRODID:-//PAGE - Partage des Amis du Grand Est - ECPv6.15.20//NONSGML v1.0//EN
CALSCALE:GREGORIAN
METHOD:PUBLISH
X-WR-CALNAME:PAGE - Partage des Amis du Grand Est
X-ORIGINAL-URL:https://page-asso.fr
X-WR-CALDESC:Évènements pour PAGE - Partage des Amis du Grand Est
REFRESH-INTERVAL;VALUE=DURATION:PT1H
X-Robots-Tag:noindex
X-PUBLISHED-TTL:PT1H
BEGIN:VTIMEZONE
TZID:Europe/Paris
BEGIN:DAYLIGHT
TZOFFSETFROM:+0100
TZOFFSETTO:+0200
TZNAME:CEST
DTSTART:20240331T010000
END:DAYLIGHT
BEGIN:STANDARD
TZOFFSETFROM:+0200
TZOFFSETTO:+0100
TZNAME:CET
DTSTART:20241027T010000
END:STANDARD
BEGIN:DAYLIGHT
TZOFFSETFROM:+0100
TZOFFSETTO:+0200
TZNAME:CEST
DTSTART:20250330T010000
END:DAYLIGHT
BEGIN:STANDARD
TZOFFSETFROM:+0200
TZOFFSETTO:+0100
TZNAME:CET
DTSTART:20251026T010000
END:STANDARD
BEGIN:DAYLIGHT
TZOFFSETFROM:+0100
TZOFFSETTO:+0200
TZNAME:CEST
DTSTART:20260329T010000
END:DAYLIGHT
BEGIN:STANDARD
TZOFFSETFROM:+0200
TZOFFSETTO:+0100
TZNAME:CET
DTSTART:20261025T010000
END:STANDARD
END:VTIMEZONE
BEGIN:VEVENT
DTSTART;TZID=Europe/Paris:20251015T120000
DTEND;TZID=Europe/Paris:20251018T180000
DTSTAMP:20260422T005513
CREATED:20250305T102013Z
LAST-MODIFIED:20251023T153116Z
UID:30751-1760529600-1760810400@page-asso.fr
SUMMARY:Exposition Re’g’Art
DESCRIPTION:PAGE organise une exposition de peinture et d’œuvres d’art intitulée Re’g’Art \ndate et lieu : du 15 au 18 octobre 2025 à la salle du Casino à Thionville. \nEntrée libre et gratuite de 12h00 à 19h00. \nPAGE – Exposition Regart – Affiche 2025 \nGALERIE DE PHOTOS\n(cliquez sur une photo pour agrandir)
URL:https://page-asso.fr/evenement/exposition-regart-2/
LOCATION:salle du Casino à Thionville\, 43 Rue de Paris\, Thionville\, 57100\, France
CATEGORIES:Exposition
END:VEVENT
END:VCALENDAR