BEGIN:VCALENDAR
VERSION:2.0
PRODID:-//PAGE - Partage des Amis du Grand Est - ECPv6.15.20//NONSGML v1.0//EN
CALSCALE:GREGORIAN
METHOD:PUBLISH
X-ORIGINAL-URL:https://page-asso.fr
X-WR-CALDESC:Évènements pour PAGE - Partage des Amis du Grand Est
REFRESH-INTERVAL;VALUE=DURATION:PT1H
X-Robots-Tag:noindex
X-PUBLISHED-TTL:PT1H
BEGIN:VTIMEZONE
TZID:Europe/Paris
BEGIN:DAYLIGHT
TZOFFSETFROM:+0100
TZOFFSETTO:+0200
TZNAME:CEST
DTSTART:20240331T010000
END:DAYLIGHT
BEGIN:STANDARD
TZOFFSETFROM:+0200
TZOFFSETTO:+0100
TZNAME:CET
DTSTART:20241027T010000
END:STANDARD
BEGIN:DAYLIGHT
TZOFFSETFROM:+0100
TZOFFSETTO:+0200
TZNAME:CEST
DTSTART:20250330T010000
END:DAYLIGHT
BEGIN:STANDARD
TZOFFSETFROM:+0200
TZOFFSETTO:+0100
TZNAME:CET
DTSTART:20251026T010000
END:STANDARD
BEGIN:DAYLIGHT
TZOFFSETFROM:+0100
TZOFFSETTO:+0200
TZNAME:CEST
DTSTART:20260329T010000
END:DAYLIGHT
BEGIN:STANDARD
TZOFFSETFROM:+0200
TZOFFSETTO:+0100
TZNAME:CET
DTSTART:20261025T010000
END:STANDARD
END:VTIMEZONE
BEGIN:VEVENT
DTSTART;TZID=Europe/Paris:20251016T090000
DTEND;TZID=Europe/Paris:20251016T163000
DTSTAMP:20260426T022622
CREATED:20251015T221509Z
LAST-MODIFIED:20251023T123334Z
UID:31194-1760605200-1760632200@page-asso.fr
SUMMARY:Demi-journée sécurité routière
DESCRIPTION:PAGE et la Fédération Seniors Moselle ont le plaisir de vous convier à une demi-journée sécurité routière « Conduire mieux\, vivre mieux » : \n📅 Jeudi 13 novembre 2025\n📍Salle Jeanne d’Arc – rue de Metz 57300 Mondelange\n🚗 Parkings gratuits à proximité Place de Gaulle (300 mètres)\n🕛 9h00 / 12h00 OU 13h30 / 16h30\n💷GRATUIT\n☎️ Inscriptions : Anaïs 07 78 83 73 57 / projets@federationseniorsmoselle.fr \n>️ Au programme : \n\nquestionnaire mobilité pour évaluer vos capacités\nrévision du code de la route (panneaux de signalisation\, giratoires\, entrées et sorties d’autoroute\, partage de la route avec les autres usagers…)\,\nconsommations et conduites à risques : tapis pédagogiques\, lunettes de simulation (alcool\, médicaments\, sommeil…).\n\n⚠️ Attention : Inscription pour la session du matin OU de l’après-midi (places limitées) \nPour toute information complémentaire\, veuillez contacter Anaïs (voir inscriptions). \nAffiche Conduire mieux\, vivre mieux 29082025
URL:https://page-asso.fr/evenement/demi-journee-securite-routiere/
CATEGORIES:Cours & ateliers
END:VEVENT
END:VCALENDAR