BEGIN:VCALENDAR
VERSION:2.0
PRODID:-//PAGE - Partage des Amis du Grand Est - ECPv6.15.20//NONSGML v1.0//EN
CALSCALE:GREGORIAN
METHOD:PUBLISH
X-ORIGINAL-URL:https://page-asso.fr
X-WR-CALDESC:Évènements pour PAGE - Partage des Amis du Grand Est
REFRESH-INTERVAL;VALUE=DURATION:PT1H
X-Robots-Tag:noindex
X-PUBLISHED-TTL:PT1H
BEGIN:VTIMEZONE
TZID:Europe/Paris
BEGIN:DAYLIGHT
TZOFFSETFROM:+0100
TZOFFSETTO:+0200
TZNAME:CEST
DTSTART:20220327T010000
END:DAYLIGHT
BEGIN:STANDARD
TZOFFSETFROM:+0200
TZOFFSETTO:+0100
TZNAME:CET
DTSTART:20221030T010000
END:STANDARD
BEGIN:DAYLIGHT
TZOFFSETFROM:+0100
TZOFFSETTO:+0200
TZNAME:CEST
DTSTART:20230326T010000
END:DAYLIGHT
BEGIN:STANDARD
TZOFFSETFROM:+0200
TZOFFSETTO:+0100
TZNAME:CET
DTSTART:20231029T010000
END:STANDARD
BEGIN:DAYLIGHT
TZOFFSETFROM:+0100
TZOFFSETTO:+0200
TZNAME:CEST
DTSTART:20240331T010000
END:DAYLIGHT
BEGIN:STANDARD
TZOFFSETFROM:+0200
TZOFFSETTO:+0100
TZNAME:CET
DTSTART:20241027T010000
END:STANDARD
END:VTIMEZONE
BEGIN:VEVENT
DTSTART;TZID=Europe/Paris:20230601T103000
DTEND;TZID=Europe/Paris:20230601T113000
DTSTAMP:20260422T190825
CREATED:20230227T201909Z
LAST-MODIFIED:20230504T181546Z
UID:29401-1685615400-1685619000@page-asso.fr
SUMMARY:Gymnastique senior
DESCRIPTION:Séance de gymnastique adaptée aux seniors \nEn mai et juin\, une seule séance hebdomadaire les jeudis hors vacances scolaires.. \n\nSéance 10h30-11h30\nProfesseur de gym: Serge
URL:https://page-asso.fr/evenement/gymnastique-senior-31/
LOCATION:Maison des Quartiers\, 58 Allée Bel-Air\, THIONVILLE\, 57100\, France
CATEGORIES:Activités physiques,Gymnastique
END:VEVENT
BEGIN:VEVENT
DTSTART;TZID=Europe/Paris:20230608T100000
DTEND;TZID=Europe/Paris:20230608T110000
DTSTAMP:20260422T190825
CREATED:20230227T202151Z
LAST-MODIFIED:20230424T172448Z
UID:29405-1686218400-1686222000@page-asso.fr
SUMMARY:Gymnastique senior
DESCRIPTION:Séance de gymnastique adaptée aux seniors \nEn mai et juin\, une seule séance hebdomadaire les jeudis hors vacances scolaires. \n\nSéance 10h00-11h00
URL:https://page-asso.fr/evenement/gymnastique-senior-33/
LOCATION:Maison des Quartiers\, 58 Allée Bel-Air\, THIONVILLE\, 57100\, France
CATEGORIES:Activités physiques,Gymnastique
END:VEVENT
BEGIN:VEVENT
DTSTART;TZID=Europe/Paris:20230615T100000
DTEND;TZID=Europe/Paris:20230615T110000
DTSTAMP:20260422T190825
CREATED:20230227T202514Z
LAST-MODIFIED:20230424T172533Z
UID:29409-1686823200-1686826800@page-asso.fr
SUMMARY:Gymnastique senior
DESCRIPTION:Séance de gymnastique adaptée aux seniors \nEn mai et juin\, une seule séance hebdomadaire les jeudis hors vacances scolaires. \n\nSéance 10h00-11h00
URL:https://page-asso.fr/evenement/gymnastique-senior-35/
LOCATION:Maison des Quartiers\, 58 Allée Bel-Air\, THIONVILLE\, 57100\, France
CATEGORIES:Activités physiques,Gymnastique
END:VEVENT
BEGIN:VEVENT
DTSTART;TZID=Europe/Paris:20230622T100000
DTEND;TZID=Europe/Paris:20230622T110000
DTSTAMP:20260422T190825
CREATED:20230227T212704Z
LAST-MODIFIED:20230424T172631Z
UID:29413-1687428000-1687431600@page-asso.fr
SUMMARY:Gymnastique senior
DESCRIPTION:Séance de gymnastique adaptée aux seniors \nEn mai et juin\, une seule séance hebdomadaire les jeudis hors vacances scolaires. \n\nSéance 10h00-11h00
URL:https://page-asso.fr/evenement/gymnastique-senior-37/
LOCATION:Maison des Quartiers\, 58 Allée Bel-Air\, THIONVILLE\, 57100\, France
CATEGORIES:Activités physiques,Gymnastique
END:VEVENT
BEGIN:VEVENT
DTSTART;TZID=Europe/Paris:20230629T103000
DTEND;TZID=Europe/Paris:20230629T113000
DTSTAMP:20260422T190825
CREATED:20230227T213112Z
LAST-MODIFIED:20230504T181735Z
UID:29417-1688034600-1688038200@page-asso.fr
SUMMARY:Gymnastique senior
DESCRIPTION:Séance de gymnastique adaptée aux seniors \nEn mai et juin\, une seule séance hebdomadaire les jeudis hors vacances scolaires. \n\nSéance 10h30-11h30\nProfesseur de gym: Serge
URL:https://page-asso.fr/evenement/gymnastique-senior-39/
LOCATION:Maison des Quartiers\, 58 Allée Bel-Air\, THIONVILLE\, 57100\, France
CATEGORIES:Activités physiques,Gymnastique
END:VEVENT
END:VCALENDAR