BEGIN:VCALENDAR
VERSION:2.0
PRODID:-//PAGE - Partage des Amis du Grand Est - ECPv6.15.20//NONSGML v1.0//EN
CALSCALE:GREGORIAN
METHOD:PUBLISH
X-WR-CALNAME:PAGE - Partage des Amis du Grand Est
X-ORIGINAL-URL:https://page-asso.fr
X-WR-CALDESC:Évènements pour PAGE - Partage des Amis du Grand Est
REFRESH-INTERVAL;VALUE=DURATION:PT1H
X-Robots-Tag:noindex
X-PUBLISHED-TTL:PT1H
BEGIN:VTIMEZONE
TZID:Europe/Paris
BEGIN:DAYLIGHT
TZOFFSETFROM:+0100
TZOFFSETTO:+0200
TZNAME:CEST
DTSTART:20230326T010000
END:DAYLIGHT
BEGIN:STANDARD
TZOFFSETFROM:+0200
TZOFFSETTO:+0100
TZNAME:CET
DTSTART:20231029T010000
END:STANDARD
BEGIN:DAYLIGHT
TZOFFSETFROM:+0100
TZOFFSETTO:+0200
TZNAME:CEST
DTSTART:20240331T010000
END:DAYLIGHT
BEGIN:STANDARD
TZOFFSETFROM:+0200
TZOFFSETTO:+0100
TZNAME:CET
DTSTART:20241027T010000
END:STANDARD
BEGIN:DAYLIGHT
TZOFFSETFROM:+0100
TZOFFSETTO:+0200
TZNAME:CEST
DTSTART:20250330T010000
END:DAYLIGHT
BEGIN:STANDARD
TZOFFSETFROM:+0200
TZOFFSETTO:+0100
TZNAME:CET
DTSTART:20251026T010000
END:STANDARD
END:VTIMEZONE
BEGIN:VEVENT
DTSTART;TZID=Europe/Paris:20241013T160000
DTEND;TZID=Europe/Paris:20241013T183000
DTSTAMP:20260423T152709
CREATED:20240927T100212Z
LAST-MODIFIED:20240927T100344Z
UID:30280-1728835200-1728844200@page-asso.fr
SUMMARY:CONCERT Musiques Sud-Américaine traditionnelle
DESCRIPTION:Le président et les membres de la chorale « OPERA » de Thionville seront très heureux de vous rencontrer à leur concert « LA MOSELLE CHANTE LE PEROU« \, avec la participation exceptionelle de l’orchestre traditionnel péruvien « Musocc Illary » et du compositeur et chef d’orchestre péruvien Kato RODRIGUEZ. \nVenez nombreux encourager les acteurs de ce beau projet musical initié par l’association musicale « OPERA-THIONVILLE » (voir infos ci-dessous) \nRenseignements : 06 84 21 49 55 ou sur le site : https://www.operathionville.fr \nLieu : église Notre Dame de l’Assomption \n \nMisa Andina Affiche Thionville 2024a
URL:https://page-asso.fr/evenement/concert-musiques-sud-americaine-traditionnelle/
CATEGORIES:Sorties
END:VEVENT
END:VCALENDAR