BEGIN:VCALENDAR
VERSION:2.0
PRODID:-//PAGE - Partage des Amis du Grand Est - ECPv6.15.20//NONSGML v1.0//EN
CALSCALE:GREGORIAN
METHOD:PUBLISH
X-ORIGINAL-URL:https://page-asso.fr
X-WR-CALDESC:Évènements pour PAGE - Partage des Amis du Grand Est
REFRESH-INTERVAL;VALUE=DURATION:PT1H
X-Robots-Tag:noindex
X-PUBLISHED-TTL:PT1H
BEGIN:VTIMEZONE
TZID:Europe/Paris
BEGIN:DAYLIGHT
TZOFFSETFROM:+0100
TZOFFSETTO:+0200
TZNAME:CEST
DTSTART:20230326T010000
END:DAYLIGHT
BEGIN:STANDARD
TZOFFSETFROM:+0200
TZOFFSETTO:+0100
TZNAME:CET
DTSTART:20231029T010000
END:STANDARD
BEGIN:DAYLIGHT
TZOFFSETFROM:+0100
TZOFFSETTO:+0200
TZNAME:CEST
DTSTART:20240331T010000
END:DAYLIGHT
BEGIN:STANDARD
TZOFFSETFROM:+0200
TZOFFSETTO:+0100
TZNAME:CET
DTSTART:20241027T010000
END:STANDARD
BEGIN:DAYLIGHT
TZOFFSETFROM:+0100
TZOFFSETTO:+0200
TZNAME:CEST
DTSTART:20250330T010000
END:DAYLIGHT
BEGIN:STANDARD
TZOFFSETFROM:+0200
TZOFFSETTO:+0100
TZNAME:CET
DTSTART:20251026T010000
END:STANDARD
END:VTIMEZONE
BEGIN:VEVENT
DTSTART;TZID=Europe/Paris:20240910T103000
DTEND;TZID=Europe/Paris:20240910T113000
DTSTAMP:20260420T013727
CREATED:20240819T141502Z
LAST-MODIFIED:20240819T141527Z
UID:30223-1725964200-1725967800@page-asso.fr
SUMMARY:Conférence Gym prévention santé
DESCRIPTION:Cette conférence n’est pas organisée par l’association PAGE mais par le CCAS de Thionville ; elle est susceptible de vous intéresser. \nLieu : Foyer paroissial à Oeutrange \nDate : le 10.09.2024 de 10h30 à 11h30 \n CCAS-Gym-prévention-santé-2024.09.10 \n 
URL:https://page-asso.fr/evenement/conference-gym-prevention-sante/
LOCATION:Foyer Paroissial OEUTRANGE\, 13 pl St Luc - Rue du 70ème Régiment d’Armée\, OEUTRANGE (THIONVILLE)\, 57100\, France
END:VEVENT
END:VCALENDAR