BEGIN:VCALENDAR
VERSION:2.0
PRODID:-//PAGE - Partage des Amis du Grand Est - ECPv6.15.20//NONSGML v1.0//EN
CALSCALE:GREGORIAN
METHOD:PUBLISH
X-WR-CALNAME:PAGE - Partage des Amis du Grand Est
X-ORIGINAL-URL:https://page-asso.fr
X-WR-CALDESC:Évènements pour PAGE - Partage des Amis du Grand Est
REFRESH-INTERVAL;VALUE=DURATION:PT1H
X-Robots-Tag:noindex
X-PUBLISHED-TTL:PT1H
BEGIN:VTIMEZONE
TZID:Europe/Paris
BEGIN:DAYLIGHT
TZOFFSETFROM:+0100
TZOFFSETTO:+0200
TZNAME:CEST
DTSTART:20220327T010000
END:DAYLIGHT
BEGIN:STANDARD
TZOFFSETFROM:+0200
TZOFFSETTO:+0100
TZNAME:CET
DTSTART:20221030T010000
END:STANDARD
BEGIN:DAYLIGHT
TZOFFSETFROM:+0100
TZOFFSETTO:+0200
TZNAME:CEST
DTSTART:20230326T010000
END:DAYLIGHT
BEGIN:STANDARD
TZOFFSETFROM:+0200
TZOFFSETTO:+0100
TZNAME:CET
DTSTART:20231029T010000
END:STANDARD
BEGIN:DAYLIGHT
TZOFFSETFROM:+0100
TZOFFSETTO:+0200
TZNAME:CEST
DTSTART:20240331T010000
END:DAYLIGHT
BEGIN:STANDARD
TZOFFSETFROM:+0200
TZOFFSETTO:+0100
TZNAME:CET
DTSTART:20241027T010000
END:STANDARD
END:VTIMEZONE
BEGIN:VEVENT
DTSTART;TZID=Europe/Paris:20231109T150000
DTEND;TZID=Europe/Paris:20231109T173000
DTSTAMP:20260425T143511
CREATED:20230907T095257Z
LAST-MODIFIED:20230907T101729Z
UID:29843-1699542000-1699551000@page-asso.fr
SUMMARY:Conférence : l'insuffisance cardiaque tue ; prévention et signes d'alerte
DESCRIPTION:Notre association PAGE organise en partenariat avec l’Espace Saint-Nicolas une conférence d’information santé sur le thème : L’insuffisance cardiaque tue : prévention et signes d’alerte.\nElle sera animée par le Dr Christophe HERFELD de Thionville.\n\n\n\nDate et lieu : le jeudi 9 novembre 2023\, à 15h00\, Espace Conférence La Scala\, place Anne Grommerch à Thionville.\n\n\n\nLe nombre de place étant limité\, merci de réserver votre place par mail à contact@page-asso.fr avant le dimanche 8 octobre 2023.\nAprès cette date il sera toujours possible de s’inscrire via l’Espace St Nicolas par téléphone au 03.82.53.23.72 ou par mail ccas.seniors@mairie-thionville.fr.
URL:https://page-asso.fr/evenement/conference-linsuffisance-cardiaque-tue-prevention-et-signes-dalerte/
LOCATION:Espace conférence La Scala\, Place Anne Grommerch\, THIONVILLE\, 57100\, France
CATEGORIES:Conférences
END:VEVENT
END:VCALENDAR