BEGIN:VCALENDAR
VERSION:2.0
PRODID:-//PAGE - Partage des Amis du Grand Est - ECPv6.15.20//NONSGML v1.0//EN
CALSCALE:GREGORIAN
METHOD:PUBLISH
X-WR-CALNAME:PAGE - Partage des Amis du Grand Est
X-ORIGINAL-URL:https://page-asso.fr
X-WR-CALDESC:Évènements pour PAGE - Partage des Amis du Grand Est
REFRESH-INTERVAL;VALUE=DURATION:PT1H
X-Robots-Tag:noindex
X-PUBLISHED-TTL:PT1H
BEGIN:VTIMEZONE
TZID:Europe/Paris
BEGIN:DAYLIGHT
TZOFFSETFROM:+0100
TZOFFSETTO:+0200
TZNAME:CEST
DTSTART:20220327T010000
END:DAYLIGHT
BEGIN:STANDARD
TZOFFSETFROM:+0200
TZOFFSETTO:+0100
TZNAME:CET
DTSTART:20221030T010000
END:STANDARD
BEGIN:DAYLIGHT
TZOFFSETFROM:+0100
TZOFFSETTO:+0200
TZNAME:CEST
DTSTART:20230326T010000
END:DAYLIGHT
BEGIN:STANDARD
TZOFFSETFROM:+0200
TZOFFSETTO:+0100
TZNAME:CET
DTSTART:20231029T010000
END:STANDARD
BEGIN:DAYLIGHT
TZOFFSETFROM:+0100
TZOFFSETTO:+0200
TZNAME:CEST
DTSTART:20240331T010000
END:DAYLIGHT
BEGIN:STANDARD
TZOFFSETFROM:+0200
TZOFFSETTO:+0100
TZNAME:CET
DTSTART:20241027T010000
END:STANDARD
END:VTIMEZONE
BEGIN:VEVENT
DTSTART;TZID=Europe/Paris:20230406T150000
DTEND;TZID=Europe/Paris:20230406T170000
DTSTAMP:20260425T225305
CREATED:20230304T145914Z
LAST-MODIFIED:20230407T101820Z
UID:29478-1680793200-1680800400@page-asso.fr
SUMMARY:Conférence "Thionville de 1867 à nos jours au travers d'anciennes photos colorisées"
DESCRIPTION:Conférence « Thionville de 1867 à nos jours au travers d’anciennes photos colorisées » : un franc succès\n   \n \n  \n\n \n\n\n\n\n\nConférence « Thionville de 1867 à nos jours au travers d’anciennes photos colorisées »\n  \n  \nLe nombre de place est limité à la capacité de la salle\, soit une cinquantaine de sièges. \nL’inscription pour les membres de l’association se fait par mail à contact@page-perso.fr en indiquant le nombre de personnes se joignant à vous. \nDate limite d’inscription : dimanche 19/03/2023\nPassé cette date il sera encore possible de s’inscrire via l’Espace Saint-Nicolas par téléphone au 03.82.53.23.72 ou par mail ccas.seniors@mairie-thionville.fr
URL:https://page-asso.fr/evenement/conference-thionville-de-1867-a-nos-jours-au-travers-danciennes-photos-colorisees/
LOCATION:Espace conférence La Scala\, Place Anne Grommerch\, THIONVILLE\, 57100\, France
CATEGORIES:Conférences
END:VEVENT
END:VCALENDAR